BEGIN:VCALENDAR
VERSION:2.0
PRODID:-//CCQ - ECPv6.15.6//NONSGML v1.0//EN
CALSCALE:GREGORIAN
METHOD:PUBLISH
X-WR-CALNAME:CCQ
X-ORIGINAL-URL:https://csklubqld.org.au
X-WR-CALDESC:Akce na CCQ
REFRESH-INTERVAL;VALUE=DURATION:PT1H
X-Robots-Tag:noindex
X-PUBLISHED-TTL:PT1H
BEGIN:VTIMEZONE
TZID:Australia/Brisbane
BEGIN:STANDARD
TZOFFSETFROM:+1000
TZOFFSETTO:+1000
TZNAME:AEST
DTSTART:20240101T000000
END:STANDARD
END:VTIMEZONE
BEGIN:VEVENT
DTSTART;TZID=Australia/Brisbane:20251003T180000
DTEND;TZID=Australia/Brisbane:20251003T203000
DTSTAMP:20260426T123154
CREATED:20250826T022316Z
LAST-MODIFIED:20250826T022316Z
UID:1762-1759514400-1759523400@csklubqld.org.au
SUMMARY:Večeře - Pátek 3.10.
DESCRIPTION:Polévka – Gulášová (Goulash) \nKuřecí nudličky\, míchaná rýže ((Stir Fry Chicken\, Fried Rice) \nKuřecí / vepřový řízek\, bramborový salát (Chicken / Pork Schnitzel\, Potato Salad) \nObjednejte si včas:\nM: 0497 344 377 \nE: ccq@csklubqld.org.au \n  \nZměna jídelníčku vyhražena bez dalšího oznámení. Vedení klubu děkuje za pochopení 🙏🏻 \nChcete-li vyplnit tento formulář\, prosím povolte v prohlížeči JavaScript.Jméno *Email *Mobil / Telefon *Zpráva *Odeslat
URL:https://csklubqld.org.au/akce/vecere-patek-3-10/
LOCATION:Czechoslovakian Club in Queensland\, 25 Upfield Street\, Burbank\, QLD\, 4156\, Australia
CATEGORIES:Friday Dinner
ORGANIZER;CN="CCQ":MAILTO:ccqbrisbane@gmail.com
END:VEVENT
BEGIN:VEVENT
DTSTART;TZID=Australia/Brisbane:20250926T180000
DTEND;TZID=Australia/Brisbane:20250926T203000
DTSTAMP:20260426T123154
CREATED:20250826T021757Z
LAST-MODIFIED:20250826T021911Z
UID:1758-1758909600-1758918600@csklubqld.org.au
SUMMARY:Večeře - Pátek 26.9.
DESCRIPTION:Polévka – Čočková (Lentil)\nRozlítaný ptáček\, knedlík (Ruffled Spanish Bird\, Dumpling)\nKuřecí/vepřový řízek\, šťouchané brambory\, salát (Chicken/Pork Schnitzel\, Potato Mash\, Salad)\n\nObjednejte si včas:\nM: 0497 344 377 \nE: ccq@csklubqld.org.au \n  \nZměna jídelníčku vyhražena bez dalšího oznámení. Vedení klubu děkuje za pochopení 🙏🏻 \nChcete-li vyplnit tento formulář\, prosím povolte v prohlížeči JavaScript.Jméno *Email *Mobil / Telefon *Zpráva *Odeslat
URL:https://csklubqld.org.au/akce/vecere-patek-26-9/
LOCATION:Czechoslovakian Club in Queensland\, 25 Upfield Street\, Burbank\, QLD\, 4156\, Australia
CATEGORIES:Friday Dinner
ORGANIZER;CN="CCQ":MAILTO:ccqbrisbane@gmail.com
END:VEVENT
BEGIN:VEVENT
DTSTART;TZID=Australia/Brisbane:20250919T180000
DTEND;TZID=Australia/Brisbane:20250919T203000
DTSTAMP:20260426T123154
CREATED:20250826T020907Z
LAST-MODIFIED:20250826T020907Z
UID:1754-1758304800-1758313800@csklubqld.org.au
SUMMARY:Večeře - Pátek 19.9.
DESCRIPTION:Polévka – Uzená s kroupami (Smoked Pork with Barley)\nUzené\, červené zelí\, bramborový knedlík (Smoked Pork\, Red Sauerkraut\, Potato Dumpling)\nKuřecí /vepřový řízek\, bramborový salát (Chicken / Pork Schnitzel\, Potato Salad)\n\nObjednejte si včas:\nM: 0497 344 377 \nE: ccq@csklubqld.org.au \n  \nZměna jídelníčku vyhražena bez dalšího oznámení. Vedení klubu děkuje za pochopení 🙏🏻 \nChcete-li vyplnit tento formulář\, prosím povolte v prohlížeči JavaScript.Jméno *Email *Mobil / Telefon *Zpráva *Odeslat
URL:https://csklubqld.org.au/akce/vecere-patek-19-9/
LOCATION:Czechoslovakian Club in Queensland\, 25 Upfield Street\, Burbank\, QLD\, 4156\, Australia
CATEGORIES:Friday Dinner
ORGANIZER;CN="CCQ":MAILTO:ccqbrisbane@gmail.com
END:VEVENT
BEGIN:VEVENT
DTSTART;TZID=Australia/Brisbane:20250914T120000
DTEND;TZID=Australia/Brisbane:20250914T150000
DTSTAMP:20260426T123154
CREATED:20250719T083437Z
LAST-MODIFIED:20250826T023102Z
UID:1720-1757851200-1757862000@csklubqld.org.au
SUMMARY:Neděle – Oběd 14.9.
DESCRIPTION:Polévka – Hovězí vývar s játrovou rýží (Beef Broth with Mini Dumplings)\nKlasická vepřová\, pečeně\, zelí\, knedlík (Classic Roast Pork\, Sauerkraut\, Dumpling)\nKuřecí / Vepřový řízek\, bramborový salát (Chicken / Pork Schnitzel\, Potato Salad)\n\nObjednejte si včas:\nM: 0497 344 377 \nE: ccq@csklubqld.org.au \n  \nZměna jídelníčku vyhražena bez dalšího oznámení. Vedení klubu děkuje za pochopení 🙏🏻 \nChcete-li vyplnit tento formulář\, prosím povolte v prohlížeči JavaScript.Jméno *E-mail *Mobil / Telefon *DatumJídlo 1Jídlo 2Jídlo 3Jídlo 4KomentářRezervovat
URL:https://csklubqld.org.au/akce/nedele-obed-17-9/
LOCATION:Czechoslovakian Club in Queensland\, 25 Upfield Street\, Burbank\, QLD\, 4156\, Australia
CATEGORIES:Sunday Lunch
ORGANIZER;CN="CCQ":MAILTO:ccqbrisbane@gmail.com
END:VEVENT
BEGIN:VEVENT
DTSTART;TZID=Australia/Brisbane:20250912T180000
DTEND;TZID=Australia/Brisbane:20250912T203000
DTSTAMP:20260426T123154
CREATED:20250826T020448Z
LAST-MODIFIED:20250826T021206Z
UID:1752-1757700000-1757709000@csklubqld.org.au
SUMMARY:Večeře - Pátek 12.9.
DESCRIPTION:Polévka – Dýňová (Pumpkin)\nHovězí v koprové omáčce\, knedlík (Beef in Dill Sauce\, Dumpling)\nKuřecí / Vepřový řízek\, selský salát (Chicken / Pork Schnitzel\, Farmers Potato Salad)\n\nObjednejte si včas:\nM: 0497 344 377 \nE: ccq@csklubqld.org.au \n  \nZměna jídelníčku vyhražena bez dalšího oznámení. Vedení klubu děkuje za pochopení 🙏🏻 \nChcete-li vyplnit tento formulář\, prosím povolte v prohlížeči JavaScript.Jméno *Email *Mobil / Telefon *Zpráva *Odeslat
URL:https://csklubqld.org.au/akce/vecere-patek-12-9/
LOCATION:Czechoslovakian Club in Queensland\, 25 Upfield Street\, Burbank\, QLD\, 4156\, Australia
CATEGORIES:Friday Dinner
ORGANIZER;CN="CCQ":MAILTO:ccqbrisbane@gmail.com
END:VEVENT
BEGIN:VEVENT
DTSTART;TZID=Australia/Brisbane:20250905T180000
DTEND;TZID=Australia/Brisbane:20250905T203000
DTSTAMP:20260426T123154
CREATED:20250826T015758Z
LAST-MODIFIED:20250826T021000Z
UID:1750-1757095200-1757104200@csklubqld.org.au
SUMMARY:Večeře - Pátek 5.9.
DESCRIPTION:Polévka – Fazolová (Bean)\nHovězí pikantní guláš\, knedlík (Tangy Beef Goulash\, Dumpling)\nKuřecí / Vepřový řízek\, bramborový salát (Kuřecí / Vepřový řízek\, bramborový salát)\n\nObjednejte si včas:\nM: 0497 344 377 \nE: ccq@csklubqld.org.au \n  \nZměna jídelníčku vyhražena bez dalšího oznámení. Vedení klubu děkuje za pochopení 🙏🏻 \nChcete-li vyplnit tento formulář\, prosím povolte v prohlížeči JavaScript.Jméno *Email *Mobil / Telefon *Zpráva *Odeslat
URL:https://csklubqld.org.au/akce/vecere-patek-5-9/
LOCATION:Czechoslovakian Club in Queensland\, 25 Upfield Street\, Burbank\, QLD\, 4156\, Australia
CATEGORIES:Friday Dinner
ORGANIZER;CN="CCQ":MAILTO:ccqbrisbane@gmail.com
END:VEVENT
BEGIN:VEVENT
DTSTART;TZID=Australia/Brisbane:20250829T180000
DTEND;TZID=Australia/Brisbane:20250829T203000
DTSTAMP:20260426T123154
CREATED:20250710T062705Z
LAST-MODIFIED:20250823T020815Z
UID:1697-1756490400-1756499400@csklubqld.org.au
SUMMARY:Večeře - Pátek 29.8.
DESCRIPTION:Polévka – Buřtguláš (Sausage Potato)\nPikantní “Katův šleh” opékané brambůrky (Tangy Pork “Katův Šleh” Roast Potato)\nKuřecí / Vepřový řízek s bramborovým salátem (Chicken / Pork Schnitzel\, Potato Salad) \nObjednejte si včas:\nM: 0497 344 377 \nE: ccq@csklubqld.org.au \n Změna jídelníčku vyhražena bez dalšího oznámení. Vedení klubu děkuje za pochopení 🙏🏻 \nChcete-li vyplnit tento formulář\, prosím povolte v prohlížeči JavaScript.Jméno *E-mail *Mobil / Telefon *DatumJídlo 1Jídlo 2Jídlo 3Jídlo 4KomentářRezervovat
URL:https://csklubqld.org.au/akce/friday-night-dinner-5/
LOCATION:Czechoslovakian Club in Queensland\, 25 Upfield Street\, Burbank\, QLD\, 4156\, Australia
CATEGORIES:Friday Dinner
ORGANIZER;CN="CCQ":MAILTO:ccqbrisbane@gmail.com
END:VEVENT
BEGIN:VEVENT
DTSTART;TZID=Australia/Brisbane:20250822T180000
DTEND;TZID=Australia/Brisbane:20250822T203000
DTSTAMP:20260426T123154
CREATED:20250710T062456Z
LAST-MODIFIED:20250801T081154Z
UID:1694-1755885600-1755894600@csklubqld.org.au
SUMMARY:Večeře - Pátek 22.8.
DESCRIPTION:Polévka – Zeleninová (Vegetable)\nSekaná svíčková\, knedlík (Meatloaf in Svíčková Gravy\, Dumpling)\nKuřecí / Vepřový řízek\, bramborový salát (Chicken / Pork Schnitzel\, Potato Salad ) \nObjednejte si včas:\nM: 0497 344 377 \nE: ccq@csklubqld.org.au \n Změna jídelníčku vyhražena bez dalšího oznámení. Vedení klubu děkuje za pochopení 🙏🏻 \nChcete-li vyplnit tento formulář\, prosím povolte v prohlížeči JavaScript.Jméno *E-mail *Mobil / Telefon *DatumJídlo 1Jídlo 2Jídlo 3Jídlo 4KomentářRezervovat
URL:https://csklubqld.org.au/akce/friday-night-dinner-4/
LOCATION:Czechoslovakian Club in Queensland\, 25 Upfield Street\, Burbank\, QLD\, 4156\, Australia
CATEGORIES:Friday Dinner
ORGANIZER;CN="CCQ":MAILTO:ccqbrisbane@gmail.com
END:VEVENT
BEGIN:VEVENT
DTSTART;TZID=Australia/Brisbane:20250817T120000
DTEND;TZID=Australia/Brisbane:20250817T150000
DTSTAMP:20260426T123154
CREATED:20250710T063034Z
LAST-MODIFIED:20250801T081129Z
UID:1700-1755432000-1755442800@csklubqld.org.au
SUMMARY:Neďele – Oběd 17.8.
DESCRIPTION:Polévka – kuřecí s masem a nudlemi (Chicken with Meat and Noodles)\nSegedínský guláš s knedlíkem (Szegedín Goulash\, Dumpling) \n4EB AGM v 11 hodin Slovenská skupina\nPo obědě\n4EB AGM ve 2 hodiny Česká skupina \nObjednejte si včas:\nM: 0497 344 377 \nE: ccq@csklubqld.org.au \n  \nZměna jídelníčku vyhražena bez dalšího oznámení. Vedení klubu děkuje za pochopení 🙏🏻 \nChcete-li vyplnit tento formulář\, prosím povolte v prohlížeči JavaScript.Jméno *E-mail *Mobil / Telefon *DatumJídlo 1Jídlo 2Jídlo 3Jídlo 4KomentářRezervovat
URL:https://csklubqld.org.au/akce/sunday-lunch/
LOCATION:Czechoslovakian Club in Queensland\, 25 Upfield Street\, Burbank\, QLD\, 4156\, Australia
CATEGORIES:Sunday Lunch
ORGANIZER;CN="CCQ":MAILTO:ccqbrisbane@gmail.com
END:VEVENT
BEGIN:VEVENT
DTSTART;TZID=Australia/Brisbane:20250815T180000
DTEND;TZID=Australia/Brisbane:20250815T203000
DTSTAMP:20260426T123154
CREATED:20250710T062202Z
LAST-MODIFIED:20250801T081059Z
UID:1692-1755280800-1755289800@csklubqld.org.au
SUMMARY:Večeře - Pátek 15.8.
DESCRIPTION:Polévka – Dýňová (Pumpkin)\nHovězí “Stroganoff” rýže (Beef “Stroganoff”\, Rice)\nKuřecí / vepřový řízek\, bramborový salát (Chicken / Pork Schnitzel\, Potato Salad) \nObjednejte si včas:\nM: 0497 344 377 \nE: ccq@csklubqld.org.au \nZměna jídelníčku vyhražena bez dalšího oznámení. Vedení klubu děkuje za pochopení 🙏🏻 \nChcete-li vyplnit tento formulář\, prosím povolte v prohlížeči JavaScript.Jméno *E-mail *Mobil / Telefon *DatumJídlo 1Jídlo 2Jídlo 3Jídlo 4KomentářRezervovat  \n 
URL:https://csklubqld.org.au/akce/friday-night-dinner-3/
LOCATION:Czechoslovakian Club in Queensland\, 25 Upfield Street\, Burbank\, QLD\, 4156\, Australia
CATEGORIES:Friday Dinner
ORGANIZER;CN="CCQ":MAILTO:ccqbrisbane@gmail.com
END:VEVENT
BEGIN:VEVENT
DTSTART;TZID=Australia/Brisbane:20250808T180000
DTEND;TZID=Australia/Brisbane:20250808T203000
DTSTAMP:20260426T123154
CREATED:20250710T061914Z
LAST-MODIFIED:20250801T081009Z
UID:1689-1754676000-1754685000@csklubqld.org.au
SUMMARY:Večeře - Pátek 8.8.
DESCRIPTION:Polévka – Hrachový krém s krutónkama (Pea Cream with Croutons)\nTelecí přírodní pečeně s bramborem\, salát (Veal Roast\, Tangy Potato Mash\, Salad )\nKuřecí / vepřový řízek s bramborem\, salát (Chicken / Pork Schnitzel\, Potato Salad ) \nObjednejte si včas:\nM: 0497 344 377 \nE: ccq@csklubqld.org.au \n Změna jídelníčku vyhražena bez dalšího oznámení. Vedení klubu děkuje za pochopení 🙏🏻 \nChcete-li vyplnit tento formulář\, prosím povolte v prohlížeči JavaScript.Jméno *E-mail *Mobil / Telefon *DatumJídlo 1Jídlo 2Jídlo 3Jídlo 4KomentářRezervovat  \n 
URL:https://csklubqld.org.au/akce/friday-night-dinner-2/
LOCATION:Czechoslovakian Club in Queensland\, 25 Upfield Street\, Burbank\, QLD\, 4156\, Australia
CATEGORIES:Friday Dinner
END:VEVENT
BEGIN:VEVENT
DTSTART;TZID=Australia/Brisbane:20250801T180000
DTEND;TZID=Australia/Brisbane:20250801T203000
DTSTAMP:20260426T123154
CREATED:20250710T061527Z
LAST-MODIFIED:20250710T064021Z
UID:1687-1754071200-1754080200@csklubqld.org.au
SUMMARY:Večeře - Pátek 1.8.
DESCRIPTION:Polévka – Pórková s bramborem (Leek Potato)\nMoravský vrabec\, zelí\, bramborový knedlík (Pork Bits\, Sauerkraut\, Potato Dumpling)\nKuřecí nebo vepřový řízek\, bramborový salát (Chicken / Pork Schnitzel\, Potato Salad ) \nObjednejte si včas:\nM: 0497 344 377 \nCena: $22  \nE: ccq@csklubqld.org.au \nZměna jídelníčku vyhražena bez dalšího oznámení. Vedení klubu děkuje za pochopení 🙏🏻
URL:https://csklubqld.org.au/akce/friday-night-dinner/
LOCATION:Czechoslovakian Club in Queensland\, 25 Upfield Street\, Burbank\, QLD\, 4156\, Australia
CATEGORIES:Friday Dinner
END:VEVENT
BEGIN:VEVENT
DTSTART;TZID=Australia/Brisbane:20250727T110000
DTEND;TZID=Australia/Brisbane:20250727T140000
DTSTAMP:20260426T123154
CREATED:20250616T231045Z
LAST-MODIFIED:20250723T033040Z
UID:1665-1753614000-1753624800@csklubqld.org.au
SUMMARY:VYPRODÁNO - Neděle 27.7 – Svatá Anna
DESCRIPTION:VYPRODÁNO – Oběd Švédský stůl – SOLD OUT\n\nPolévka – Domácí bramboračka\,\nVýběr různě upravených mas\,\nVýběr saláty příloha více dodatečně\n\nCena porce $25 zahrnuje polévku \nE: ccq@csklubqld.org.au \nZměna jídelníčku vyhražena bez dalšího oznámení. Vedení klubu děkuje za pochopení 🙏🏻 \nChcete-li vyplnit tento formulář\, prosím povolte v prohlížeči JavaScript.Jméno *E-mail *Mobil / Telefon *DatumJídlo 1Jídlo 2Jídlo 3Jídlo 4KomentářRezervovat
URL:https://csklubqld.org.au/akce/nedele-27-7-svata-anna/
LOCATION:Czechoslovakian Club in Queensland\, 25 Upfield Street\, Burbank\, QLD\, 4156\, Australia
ORGANIZER;CN="CCQ":MAILTO:ccqbrisbane@gmail.com
END:VEVENT
BEGIN:VEVENT
DTSTART;TZID=Australia/Brisbane:20250725T173000
DTEND;TZID=Australia/Brisbane:20250725T210000
DTSTAMP:20260426T123154
CREATED:20250616T230823Z
LAST-MODIFIED:20250616T231112Z
UID:1663-1753464600-1753477200@csklubqld.org.au
SUMMARY:Večeře – Pátek 25.7
DESCRIPTION:Polévka – Kapustnica (Sauerkraut\, Sausage)\nBryndzové halušky se slaninou (Mini potato Gnocchi with Sheep Cheese\, Bacon)\nKuřecí řízek\, bramborový salát \nVepřový řízek\, bramborový salát \n\nObjednejte si včas:\nM: 0497 344 377 \nCena: $22  \nE: ccq@csklubqld.org.au \nZměna jídelníčku vyhražena bez dalšího oznámení. Vedení klubu děkuje za pochopení 🙏🏻 \nRezervace jídlaChcete-li vyplnit tento formulář\, prosím povolte v prohlížeči JavaScript.Jméno *E-mail *Mobil / Telefon *DatumJídlo 1Jídlo 2Jídlo 3Jídlo 4KomentářRezervovat
URL:https://csklubqld.org.au/akce/vecere-patek-25-7/
LOCATION:Czechoslovakian Club in Queensland\, 25 Upfield Street\, Burbank\, QLD\, 4156\, Australia
ORGANIZER;CN="CCQ":MAILTO:ccqbrisbane@gmail.com
END:VEVENT
BEGIN:VEVENT
DTSTART;TZID=Australia/Brisbane:20250718T173000
DTEND;TZID=Australia/Brisbane:20250718T210000
DTSTAMP:20260426T123154
CREATED:20250616T230634Z
LAST-MODIFIED:20250616T231136Z
UID:1661-1752859800-1752872400@csklubqld.org.au
SUMMARY:Večeře – Pátek 18.7
DESCRIPTION:Polévka – Dýňová\nUzené v bramboráku\, kyselé zelí\nKuřecí řízek\, bramborový salát \nVepřový řízek\, bramborový salát \n\nObjednejte si včas:\nM: 0497 344 377 \nCena: $22  \nE: ccq@csklubqld.org.au \nZměna jídelníčku vyhražena bez dalšího oznámení. Vedení klubu děkuje za pochopení 🙏🏻 \nRezervace jídlaChcete-li vyplnit tento formulář\, prosím povolte v prohlížeči JavaScript.Jméno *E-mail *Mobil / Telefon *DatumJídlo 1Jídlo 2Jídlo 3Jídlo 4KomentářRezervovat
URL:https://csklubqld.org.au/akce/vecere-patek-18-7/
LOCATION:Czechoslovakian Club in Queensland\, 25 Upfield Street\, Burbank\, QLD\, 4156\, Australia
ORGANIZER;CN="CCQ":MAILTO:ccqbrisbane@gmail.com
END:VEVENT
BEGIN:VEVENT
DTSTART;TZID=Australia/Brisbane:20250711T173000
DTEND;TZID=Australia/Brisbane:20250711T210000
DTSTAMP:20260426T123154
CREATED:20250616T230422Z
LAST-MODIFIED:20250616T231152Z
UID:1659-1752255000-1752267600@csklubqld.org.au
SUMMARY:Večeře – Pátek 11.7
DESCRIPTION:Polévka –  Gulášová\nČevapčiči (pikantní mini kebab)\, opékané brambůrky s oblohou\nKuřecí řízek\, selský salát \nVepřový řízek\, selský salát \n\nObjednejte si včas:\nM: 0497 344 377 \nCena: $22  \nE: ccq@csklubqld.org.au \nZměna jídelníčku vyhražena bez dalšího oznámení. Vedení klubu děkuje za pochopení 🙏🏻 \nRezervace jídlaChcete-li vyplnit tento formulář\, prosím povolte v prohlížeči JavaScript.Jméno *E-mail *Mobil / Telefon *DatumJídlo 1Jídlo 2Jídlo 3Jídlo 4KomentářRezervovat
URL:https://csklubqld.org.au/akce/vecere-patek-11-7/
LOCATION:Czechoslovakian Club in Queensland\, 25 Upfield Street\, Burbank\, QLD\, 4156\, Australia
ORGANIZER;CN="CCQ":MAILTO:ccqbrisbane@gmail.com
END:VEVENT
BEGIN:VEVENT
DTSTART;TZID=Australia/Brisbane:20250704T173000
DTEND;TZID=Australia/Brisbane:20250704T213000
DTSTAMP:20260426T123154
CREATED:20250607T094658Z
LAST-MODIFIED:20250616T231211Z
UID:1654-1751650200-1751664600@csklubqld.org.au
SUMMARY:Večeře – Pátek 4.7
DESCRIPTION:Polévka –Kuřecí s masem a nudlemi\nHovězí guláš\, houskový knedlík\nKuřecí řízek\, bramborový salát \nVepřový řízek\, bramborový salát \n\nObjednejte si včas:\nM: 0497 344 377 \nCena: $22  \nE: ccq@csklubqld.org.au \nZměna jídelníčku vyhražena bez dalšího oznámení. Vedení klubu děkuje za pochopení 🙏🏻 \nRezervace jídlaChcete-li vyplnit tento formulář\, prosím povolte v prohlížeči JavaScript.Jméno *E-mail *Mobil / Telefon *DatumJídlo 1Jídlo 2Jídlo 3Jídlo 4KomentářRezervovat
URL:https://csklubqld.org.au/akce/vecere-patek-4-7/
LOCATION:Czechoslovakian Club in Queensland\, 25 Upfield Street\, Burbank\, QLD\, 4156\, Australia
ORGANIZER;CN="CCQ":MAILTO:ccqbrisbane@gmail.com
END:VEVENT
BEGIN:VEVENT
DTSTART;TZID=Australia/Brisbane:20250627T173000
DTEND;TZID=Australia/Brisbane:20250627T213000
DTSTAMP:20260426T123154
CREATED:20250607T094543Z
LAST-MODIFIED:20250616T231230Z
UID:1652-1751045400-1751059800@csklubqld.org.au
SUMMARY:Večeře – Pátek 27.6
DESCRIPTION:Polévka – Čočková\nBratislavská vepřová kýta ve smetanové omáčce\, knedlík\nKuřecí řízek\, bramborový salát \nVepřový řízek\, bramborový salát \n\nObjednejte si včas:\nM: 0497 344 377 \nCena: $22  \nE: ccq@csklubqld.org.au \nZměna jídelníčku vyhražena bez dalšího oznámení. Vedení klubu děkuje za pochopení 🙏🏻 \nRezervace jídlaChcete-li vyplnit tento formulář\, prosím povolte v prohlížeči JavaScript.Jméno *E-mail *Mobil / Telefon *DatumJídlo 1Jídlo 2Jídlo 3Jídlo 4KomentářRezervovat
URL:https://csklubqld.org.au/akce/vecere-patek-27-6/
LOCATION:Czechoslovakian Club in Queensland\, 25 Upfield Street\, Burbank\, QLD\, 4156\, Australia
ORGANIZER;CN="CCQ":MAILTO:ccqbrisbane@gmail.com
END:VEVENT
BEGIN:VEVENT
DTSTART;TZID=Australia/Brisbane:20250622T120000
DTEND;TZID=Australia/Brisbane:20250622T150000
DTSTAMP:20260426T123154
CREATED:20250618T045935Z
LAST-MODIFIED:20250618T210305Z
UID:1675-1750593600-1750604400@csklubqld.org.au
SUMMARY:Nedělní oběd 22.6.
DESCRIPTION:—— \n\nPolévka – Hovězí s játrovou rýží\, nudle (Beef Broth\, Liver Rice\, Noodles)\nKlasická Hovězí svíčková\, knedlík (Beef in Creamy Vegetable Sauce\, Dumpling)\nKuřecí / Vepřový řízek\, bramborový salát (Chicken / Pork Schnitzel\, Potato Salad)\nS polévkou (incl. soup)\n\nObjednejte si včas:\nM: 0497 344 377 \nCena: $25  \nE: ccq@csklubqld.org.au \nZměna jídelníčku vyhražena bez dalšího oznámení. Vedení klubu děkuje za pochopení 🙏🏻
URL:https://csklubqld.org.au/akce/nedelni-obed/
LOCATION:Czechoslovakian Club in Queensland\, 25 Upfield Street\, Burbank\, QLD\, 4156\, Australia
CATEGORIES:Sunday Lunch
ORGANIZER;CN="CCQ":MAILTO:ccqbrisbane@gmail.com
END:VEVENT
BEGIN:VEVENT
DTSTART;TZID=Australia/Brisbane:20250620T173000
DTEND;TZID=Australia/Brisbane:20250620T213000
DTSTAMP:20260426T123154
CREATED:20250607T094409Z
LAST-MODIFIED:20250607T094409Z
UID:1650-1750440600-1750455000@csklubqld.org.au
SUMMARY:Večeře – Pátek 20.6
DESCRIPTION:Polévka – Kapustnica\nKuře na paprice\, těstovinové halušky\nKuřecí řízek\, bramborový salát \nVepřový řízek\, bramborový salát \n\nObjednejte si včas:\nM: 0497 344 377 \nCena: $22  \nE: ccq@csklubqld.org.au \nZměna jídelníčku vyhražena bez dalšího oznámení. Vedení klubu děkuje za pochopení 🙏🏻
URL:https://csklubqld.org.au/akce/vecere-patek-20-6/
LOCATION:Czechoslovakian Club in Queensland\, 25 Upfield Street\, Burbank\, QLD\, 4156\, Australia
ORGANIZER;CN="CCQ":MAILTO:ccqbrisbane@gmail.com
END:VEVENT
BEGIN:VEVENT
DTSTART;TZID=Australia/Brisbane:20250613T173000
DTEND;TZID=Australia/Brisbane:20250613T213000
DTSTAMP:20260426T123154
CREATED:20250607T094252Z
LAST-MODIFIED:20250607T094252Z
UID:1648-1749835800-1749850200@csklubqld.org.au
SUMMARY:Večeře – Pátek 13.6
DESCRIPTION:Polévka – Žampionová\nHovězí na divoko\, houskový knedlík\nKuřecí řízek\, bramborový salát \nVepřový řízek\, bramborový salát \n\nObjednejte si včas:\nM: 0497 344 377 \nCena: $22  \nE: ccq@csklubqld.org.au \nZměna jídelníčku vyhražena bez dalšího oznámení. Vedení klubu děkuje za pochopení 🙏🏻
URL:https://csklubqld.org.au/akce/vecere-patek-13-6/
LOCATION:Czechoslovakian Club in Queensland\, 25 Upfield Street\, Burbank\, QLD\, 4156\, Australia
ORGANIZER;CN="CCQ":MAILTO:ccqbrisbane@gmail.com
END:VEVENT
BEGIN:VEVENT
DTSTART;TZID=Australia/Brisbane:20250607T080000
DTEND;TZID=Australia/Brisbane:20250607T120000
DTSTAMP:20260426T123154
CREATED:20250521T043814Z
LAST-MODIFIED:20250521T044235Z
UID:1633-1749283200-1749297600@csklubqld.org.au
SUMMARY:Brigáda
DESCRIPTION:Klubová brigáda za účelem vyčištění klubových místností a areálu. Občerstvení pro pomocníky zajištěno. Všichni vítáni. Ďekujeme
URL:https://csklubqld.org.au/akce/brigada/
LOCATION:Czechoslovakian Club in Queensland\, 25 Upfield Street\, Burbank\, QLD\, 4156\, Australia
CATEGORIES:Brigáda
ORGANIZER;CN="CCQ":MAILTO:ccqbrisbane@gmail.com
END:VEVENT
BEGIN:VEVENT
DTSTART;TZID=Australia/Brisbane:20250606T173000
DTEND;TZID=Australia/Brisbane:20250606T213000
DTSTAMP:20260426T123154
CREATED:20250607T094104Z
LAST-MODIFIED:20250607T094104Z
UID:1646-1749231000-1749245400@csklubqld.org.au
SUMMARY:Večeře – Pátek 6.6
DESCRIPTION:Polévka – Hrachový krém s krutonky\nKuře na karí\, rýže\nSmažený sýr\, brambor\, tatarská omáčka\nKuřecí řízek\, brambor\, okurkový salát\nVepřový řízek\, brambor\, okurkový salát\n\nObjednejte si včas:\nM: 0497 344 377 \nCena: $22  \nE: ccq@csklubqld.org.au \nZměna jídelníčku vyhražena bez dalšího oznámení. Vedení klubu děkuje za pochopení 🙏🏻
URL:https://csklubqld.org.au/akce/vecere-patek-6-6/
LOCATION:Czechoslovakian Club in Queensland\, 25 Upfield Street\, Burbank\, QLD\, 4156\, Australia
ORGANIZER;CN="CCQ":MAILTO:ccqbrisbane@gmail.com
END:VEVENT
BEGIN:VEVENT
DTSTART;TZID=Australia/Brisbane:20250531T153000
DTEND;TZID=Australia/Brisbane:20250531T210000
DTSTAMP:20260426T123154
CREATED:20250502T064554Z
LAST-MODIFIED:20250530T034758Z
UID:1628-1748705400-1748725200@csklubqld.org.au
SUMMARY:Dětský den a Vítání občánků
DESCRIPTION:Dětský den a Vítání občánků byly přeloženy z 31. května na 7. června. \nPřijďte na Dětský den a Vítání občánků! \n📅 Kdy: Dětský den začíná v 15:00 s táborákem! \n🔥 Co: Připravte se na skvělý odpolední táborák. Klobásky na oheň budou k dispozici k zakoupení. \n🏕 Chcete víc? Pokud máte zájem\, můžete zůstat a přespat v Klubu – vezměte si vlastní stan! \n👶 Vítání občánků: Plánujeme tuto krásnou akci\, tak sledujte novinky! \n 
URL:https://csklubqld.org.au/akce/detsky-den-a-vitani-obcanku/
LOCATION:Czechoslovakian Club in Queensland\, 25 Upfield Street\, Burbank\, QLD\, 4156\, Australia
ATTACH;FMTTYPE=image/jpeg:https://csklubqld.org.au/wp-content/uploads/2025/05/494571851_4170011873228575_1038065997807425543_n.jpg
END:VEVENT
BEGIN:VEVENT
DTSTART;VALUE=DATE:20250531
DTEND;VALUE=DATE:20250601
DTSTAMP:20260426T123154
CREATED:20250530T034849Z
LAST-MODIFIED:20250530T034849Z
UID:1642-1748649600-1748735999@csklubqld.org.au
SUMMARY:Dětský den a Vítání občánků byly přeloženy z 31. května na 7. června.
DESCRIPTION:
URL:https://csklubqld.org.au/akce/detsky-den-a-vitani-obcanku-byly-prelozeny-z-31-kvetna-na-7-cervna/
LOCATION:Czechoslovakian Club in Queensland\, 25 Upfield Street\, Burbank\, QLD\, 4156\, Australia
ORGANIZER;CN="CCQ":MAILTO:ccqbrisbane@gmail.com
END:VEVENT
BEGIN:VEVENT
DTSTART;TZID=Australia/Brisbane:20250530T180000
DTEND;TZID=Australia/Brisbane:20250530T210000
DTSTAMP:20260426T123154
CREATED:20250419T064326Z
LAST-MODIFIED:20250419T064326Z
UID:1609-1748628000-1748638800@csklubqld.org.au
SUMMARY:Večeře – Pátek 30.5
DESCRIPTION:Polévka – Zeleninová\nMoravský vrabec\, červené zelí s bramborovým knedlíkem\nKuřecí řízek\, bramborový salát – (Chicken Schnitzel\, Potato Salad)\nVepřový řízek\, bramborový salát – (Pork Schnitzel\, Potato Salad)\n\nObjednejte si včas:\nM: 0497 344 377 \nE: ccq@csklubqld.org.au \nZměna jídelníčku vyhražena bez dalšího oznámení. Vedení klubu děkuje za pochopení 🙏🏻 \nRezervace jídlaChcete-li vyplnit tento formulář\, prosím povolte v prohlížeči JavaScript.Jméno *E-mail *Mobil / Telefon *DatumJídlo 1Jídlo 2Jídlo 3Jídlo 4KomentářRezervovat
URL:https://csklubqld.org.au/akce/vecere-patek-30-5/
LOCATION:Czechoslovakian Club in Queensland\, 25 Upfield Street\, Burbank\, QLD\, 4156\, Australia
CATEGORIES:Friday Dinner
ORGANIZER;CN="CCQ":MAILTO:ccqbrisbane@gmail.com
END:VEVENT
BEGIN:VEVENT
DTSTART;TZID=Australia/Brisbane:20250524T173000
DTEND;TZID=Australia/Brisbane:20250524T230000
DTSTAMP:20260426T123154
CREATED:20250412T052532Z
LAST-MODIFIED:20250412T052532Z
UID:1597-1748107800-1748127600@csklubqld.org.au
SUMMARY:Folklórna Diskotéka
DESCRIPTION:Pridajte sa na Folklórnu Dišku\nPripravte sa na tanečnú noc na našej Folklórnej Diške\, špeciálnom večeri plnom slovenskej a českej ľudovej hudby. \nPodrobnosti o podujatí:\n📅 Dátum: Sobota\, 24. máj 2025\n⏰ Čas: 17:30 – 23:00\n📍 Miesto: Československý Club Burbank \nČo vás čaká: \n\nŽivý výber tradičnej slovenskej a českej ľudovej hudby\nV cene vstupenky je zahrnuté chutné jedlo: pečená klobása s oblohou (do 19:00) a gulášovej polievka za $10 (od 21:00).\nPochutnajte si na tradičných koláčoch a zapojte sa do našej tombole s peknými cenami!\nOblecenie s falklárnou tematikou vitané\n\nVstupné: \n\nDospelí: $20\nDeti (nad 10 rokov): $10\n\nRezervácie:\nRezervujte si stôl:\n📞 0497 344 377\n📧 ccq@csklubqld.org.au
URL:https://csklubqld.org.au/akce/folklorna-diskoteka/
LOCATION:Czechoslovakian Club in Queensland\, 25 Upfield Street\, Burbank\, QLD\, 4156\, Australia
ATTACH;FMTTYPE=image/jpeg:https://csklubqld.org.au/wp-content/uploads/2025/04/489730759_680470480988320_3895026126034883146_n.jpg
END:VEVENT
BEGIN:VEVENT
DTSTART;TZID=Australia/Brisbane:20250523T180000
DTEND;TZID=Australia/Brisbane:20250523T210000
DTSTAMP:20260426T123154
CREATED:20250419T064150Z
LAST-MODIFIED:20250419T064729Z
UID:1607-1748023200-1748034000@csklubqld.org.au
SUMMARY:Večeře – Pátek 23.5
DESCRIPTION:Polévka – Pórková\nRozlítaný ptáček\, knedlík (Ruffled Spanish Bird\, Dumpling)\nKuřecí řízek\, bramborový salát\nVepřový řízek\, bramborový salát\n\nObjednejte si včas:\nM: 0497 344 377 \nE: ccq@csklubqld.org.au \nZměna jídelníčku vyhražena bez dalšího oznámení. Vedení klubu děkuje za pochopení 🙏🏻 \nRezervace jídlaChcete-li vyplnit tento formulář\, prosím povolte v prohlížeči JavaScript.Jméno *E-mail *Mobil / Telefon *DatumJídlo 1Jídlo 2Jídlo 3Jídlo 4KomentářRezervovat
URL:https://csklubqld.org.au/akce/vecere-patek-23-5/
LOCATION:Czechoslovakian Club in Queensland\, 25 Upfield Street\, Burbank\, QLD\, 4156\, Australia
CATEGORIES:Friday Dinner
ORGANIZER;CN="CCQ":MAILTO:ccqbrisbane@gmail.com
END:VEVENT
BEGIN:VEVENT
DTSTART;TZID=Australia/Brisbane:20250516T180000
DTEND;TZID=Australia/Brisbane:20250516T210000
DTSTAMP:20260426T123154
CREATED:20250419T063934Z
LAST-MODIFIED:20250419T063934Z
UID:1604-1747418400-1747429200@csklubqld.org.au
SUMMARY:Večeře – Pátek 16.5
DESCRIPTION:Polévka – Staročeská bramboračka\nLepenice s domácí klobáskou (lepenice = šťouchané brambory s kyselým zelím)\nKuřecí řízek\, selský salát\nVepřový řízek\, selský salát\n\nObjednejte si včas:\nM: 0497 344 377 \nE: ccq@csklubqld.org.au \nZměna jídelníčku vyhražena bez dalšího oznámení. Vedení klubu děkuje za pochopení 🙏🏻 \nRezervace jídlaChcete-li vyplnit tento formulář\, prosím povolte v prohlížeči JavaScript.Jméno *E-mail *Mobil / Telefon *DatumJídlo 1Jídlo 2Jídlo 3Jídlo 4KomentářRezervovat
URL:https://csklubqld.org.au/akce/vecere-patek-16-5/
LOCATION:Czechoslovakian Club in Queensland\, 25 Upfield Street\, Burbank\, QLD\, 4156\, Australia
CATEGORIES:Friday Dinner
ORGANIZER;CN="CCQ":MAILTO:ccqbrisbane@gmail.com
END:VEVENT
BEGIN:VEVENT
DTSTART;TZID=Australia/Brisbane:20250510T100000
DTEND;TZID=Australia/Brisbane:20250510T120000
DTSTAMP:20260426T123154
CREATED:20250404T003836Z
LAST-MODIFIED:20250405T004031Z
UID:1585-1746871200-1746878400@csklubqld.org.au
SUMMARY:Mother's Day
DESCRIPTION:MOTHER’S DAY \nMorning Tea\nSAT 10 MAY \n10 AM \nJoin us for a special morning and treat yourself to\nperformance by Slovak School Brisbane\,\nfun activities by Czech School\,\ncoffee\, pampering and more! \nRSVP \nDM Slovenska Skola Brisbane on fb \nor text 0498 130 271
URL:https://csklubqld.org.au/akce/mothers-day/
LOCATION:Czechoslovakian Club in Queensland\, 25 Upfield Street\, Burbank\, QLD\, 4156\, Australia
ATTACH;FMTTYPE=application/pdf:https://csklubqld.org.au/wp-content/uploads/2025/04/Invite-10MAY25-3.pdf
END:VEVENT
END:VCALENDAR