BEGIN:VCALENDAR
VERSION:2.0
PRODID:-//CCQ - ECPv6.15.6//NONSGML v1.0//EN
CALSCALE:GREGORIAN
METHOD:PUBLISH
X-WR-CALNAME:CCQ
X-ORIGINAL-URL:https://csklubqld.org.au
X-WR-CALDESC:Akce na CCQ
REFRESH-INTERVAL;VALUE=DURATION:PT1H
X-Robots-Tag:noindex
X-PUBLISHED-TTL:PT1H
BEGIN:VTIMEZONE
TZID:Australia/Brisbane
BEGIN:STANDARD
TZOFFSETFROM:+1000
TZOFFSETTO:+1000
TZNAME:AEST
DTSTART:20230101T000000
END:STANDARD
END:VTIMEZONE
BEGIN:VEVENT
DTSTART;TZID=Australia/Brisbane:20250323T110000
DTEND;TZID=Australia/Brisbane:20250323T150000
DTSTAMP:20260426T134437
CREATED:20250228T234240Z
LAST-MODIFIED:20250311T022033Z
UID:1542-1742727600-1742742000@csklubqld.org.au
SUMMARY:Neděle 23.3 – Oběd Švédský stůl
DESCRIPTION:Oběd Švédský stůl\nRůzně upravená masa – vepřové\, kuřecí\, šunka\, masové kuličky\, pečené francouzské brambory\, různé druhy příloh\, salátů\, \nObjednejte si včas:\nM: 0497 344 377 \nE: ccq@csklubqld.org.au \nZměna jídelníčku vyhražena bez dalšího oznámení. Vedení klubu děkuje za pochopení 🙏🏻 \nRezervace jídlaChcete-li vyplnit tento formulář\, prosím povolte v prohlížeči JavaScript.Jméno *E-mail *Mobil / Telefon *DatumJídlo 1Jídlo 2Jídlo 3Jídlo 4KomentářRezervovat
URL:https://csklubqld.org.au/akce/nedele-16-3-obed-svedsky-stul/
LOCATION:Czechoslovakian Club in Queensland\, 25 Upfield Street\, Burbank\, QLD\, 4156\, Australia
CATEGORIES:Sunday Lunch
ORGANIZER;CN="CCQ":MAILTO:ccqbrisbane@gmail.com
END:VEVENT
BEGIN:VEVENT
DTSTART;TZID=Australia/Brisbane:20250119T120000
DTEND;TZID=Australia/Brisbane:20250119T150000
DTSTAMP:20260426T134437
CREATED:20250109T233625Z
LAST-MODIFIED:20250113T045749Z
UID:1485-1737288000-1737298800@csklubqld.org.au
SUMMARY:Neděle 19. ledna 2025 – Novoroční oběd ve formě Śvédského stolu (Smorgasbord) pro každého něco
DESCRIPTION:Různě upravené druhy masa\, výběr salátů\, \nOběd se podává od 12 té hodiny \nCena $30 zahrnuje los na novoroční tombolu \nE: ccq@csklubqld.org.au \nZměna jídelníčku vyhražena bez dalšího oznámení. Vedení klubu děkuje za pochopení 🙏🏻
URL:https://csklubqld.org.au/akce/nedele-19-ledna-2025-novorocni-obed-ve-forme-svedskeho-stolu-pro-kazdeho-neco/
LOCATION:Czechoslovakian Club in Queensland\, 25 Upfield Street\, Burbank\, QLD\, 4156\, Australia
CATEGORIES:Sunday Lunch
ORGANIZER;CN="CCQ":MAILTO:ccqbrisbane@gmail.com
END:VEVENT
BEGIN:VEVENT
DTSTART;TZID=Australia/Brisbane:20241027T100000
DTEND;TZID=Australia/Brisbane:20241027T160000
DTSTAMP:20260426T134437
CREATED:20240912T222457Z
LAST-MODIFIED:20241019T225958Z
UID:1402-1730023200-1730044800@csklubqld.org.au
SUMMARY:Neděle 27.10 – Oslava Národního dne
DESCRIPTION:Polévka – Kapustnica se podává od 10 hodin – (Soup – „Kapustnica“ served from 10am)\nVYPRODÁNO – Pečené vepřové koleno s křenem\, hořčicí a chlebem – (Pork Knuckle\, Horseradish\, Mustard\, Bread)\nKlasické halušky se slaninou a brynzou (Traditional Mini Potato Gnocchi\, Bacon\, Cheese)\nKuřecí řízek\, bramborový salát – (Chicken Schnitzel\, Potato Salad)\nVepřový řízek\, bramborový salát – (Pork Schnitzel\, Potato Salad)\n\nObjednejte si včas:\nM: 0497 344 377 \nE: ccq@csklubqld.org.au \nZměna jídelníčku vyhražena bez dalšího oznámení. Vedení klubu děkuje za pochopení 🙏🏻
URL:https://csklubqld.org.au/akce/nedele-27-10-oslava-narodniho-dne/
LOCATION:Czechoslovakian Club in Queensland\, 25 Upfield Street\, Burbank\, QLD\, 4156\, Australia
CATEGORIES:Sunday Lunch
END:VEVENT
END:VCALENDAR