BEGIN:VCALENDAR
VERSION:2.0
PRODID:-//CCQ - ECPv6.15.6//NONSGML v1.0//EN
CALSCALE:GREGORIAN
METHOD:PUBLISH
X-WR-CALNAME:CCQ
X-ORIGINAL-URL:https://csklubqld.org.au
X-WR-CALDESC:Akce na CCQ
REFRESH-INTERVAL;VALUE=DURATION:PT1H
X-Robots-Tag:noindex
X-PUBLISHED-TTL:PT1H
BEGIN:VTIMEZONE
TZID:Australia/Brisbane
BEGIN:STANDARD
TZOFFSETFROM:+1000
TZOFFSETTO:+1000
TZNAME:AEST
DTSTART:20230101T000000
END:STANDARD
END:VTIMEZONE
BEGIN:VEVENT
DTSTART;TZID=Australia/Brisbane:20260517T120000
DTEND;TZID=Australia/Brisbane:20260517T153000
DTSTAMP:20260426T105109
CREATED:20260415T033832Z
LAST-MODIFIED:20260415T033832Z
UID:2051-1779019200-1779031800@csklubqld.org.au
SUMMARY:Neděle 17.5 – Klub AGM – Výroční členská schůze
DESCRIPTION:Katův šleh s bramborem (Pork in Tangy Sauce with Potato) \nObjednejte si včas:\nM: 0497 344 377 \nE: ccq@csklubqld.org.au \nZměna jídelníčku vyhražena bez dalšího oznámení. Vedení klubu děkuje za pochopení 🙏🏻 \nChcete-li vyplnit tento formulář\, prosím povolte v prohlížeči JavaScript.Jméno *E-mail *Mobil / Telefon *DatumJídlo 1Jídlo 2Jídlo 3Jídlo 4KomentářRezervovat
URL:https://csklubqld.org.au/akce/nedele-17-5-klub-agm-vyrocni-clenska-schuze/
LOCATION:Czechoslovakian Club in Queensland\, 25 Upfield Street\, Burbank\, QLD\, 4156\, Australia
CATEGORIES:Sunday Lunch
ORGANIZER;CN="CCQ":MAILTO:ccqbrisbane@gmail.com
END:VEVENT
BEGIN:VEVENT
DTSTART;TZID=Australia/Brisbane:20260503T120000
DTEND;TZID=Australia/Brisbane:20260503T153000
DTSTAMP:20260426T105109
CREATED:20260415T032231Z
LAST-MODIFIED:20260415T032231Z
UID:2040-1777809600-1777822200@csklubqld.org.au
SUMMARY:Neděle 3.5.2026 - Nedělní oběd
DESCRIPTION:SMORGASBORD – stůl hojnosti \nOběd ku příležitosti 99. let oslav narozenin (1. května) Mirka Hájka a Dne Matek – \nOn this day we celebrate (1 May) Mirek Hájek’s 99th birthday with his Family\, also\, we celebrate early Mothers’ Day \n\nVelký výběr různě upraveného masa\, salátů\, zeleniny a příloh – pro každého něco (Variety and selection of meat dishes\, salads\, vegetables and accompaniments)\nBar a cukrárna otevřeny\, tombola a vše co patří k nedělnímu obědu (Bar and Coffee Bar open. Raffle and everything that is part of Sunday Lunch)\n\nObjednejte si včas:\nM: 0497 344 377 \nE: ccq@csklubqld.org.au \nChcete-li vyplnit tento formulář\, prosím povolte v prohlížeči JavaScript.Jméno *Email *Mobil / Telefon *Zpráva *Odeslat
URL:https://csklubqld.org.au/akce/nedele-3-5-2026-nedelni-obed/
LOCATION:Czechoslovakian Club in Queensland\, 25 Upfield Street\, Burbank\, QLD\, 4156\, Australia
CATEGORIES:Sunday Lunch
ORGANIZER;CN="CCQ":MAILTO:ccqbrisbane@gmail.com
END:VEVENT
BEGIN:VEVENT
DTSTART;TZID=Australia/Brisbane:20260329T120000
DTEND;TZID=Australia/Brisbane:20260329T133000
DTSTAMP:20260426T105109
CREATED:20260119T205018Z
LAST-MODIFIED:20260304T231055Z
UID:1959-1774785600-1774791000@csklubqld.org.au
SUMMARY:Neděle 29.3.2026 - oběd
DESCRIPTION:Nedělní oběd před představením kouzelníka Roberta Foxe jenom do 13.30 hod (Lunch before the Magician performance until 1.30pm) \n\nGuláš s chlebem (Goulash with Bread)\n\nObjednejte si včas:\nM: 0497 344 377 \nE: ccq@csklubqld.org.au \n  \nZměna jídelníčku vyhražena bez dalšího oznámení. Vedení klubu děkuje za pochopení 🙏🏻 \nChcete-li vyplnit tento formulář\, prosím povolte v prohlížeči JavaScript.Jméno *Email *Mobil / Telefon *Zpráva *Odeslat
URL:https://csklubqld.org.au/akce/nedele-29-3-2026/
LOCATION:Czechoslovakian Club in Queensland\, 25 Upfield Street\, Burbank\, QLD\, 4156\, Australia
CATEGORIES:Sunday Lunch
ORGANIZER;CN="CCQ":MAILTO:ccqbrisbane@gmail.com
END:VEVENT
BEGIN:VEVENT
DTSTART;TZID=Australia/Brisbane:20260306T080000
DTEND;TZID=Australia/Brisbane:20260306T170000
DTSTAMP:20260426T105109
CREATED:20260306T014325Z
LAST-MODIFIED:20260306T014325Z
UID:2018-1772784000-1772816400@csklubqld.org.au
SUMMARY:Neděle 17.5. - nedělní oběd - AGM
DESCRIPTION:Menu TBA \nVýroční členská schůze od 10.30 hod (AGM)
URL:https://csklubqld.org.au/akce/nedele-17-5-nedelni-obed-agm/
LOCATION:Czechoslovakian Club in Queensland\, 25 Upfield Street\, Burbank\, QLD\, 4156\, Australia
CATEGORIES:Sunday Lunch
ORGANIZER;CN="CCQ":MAILTO:ccqbrisbane@gmail.com
END:VEVENT
BEGIN:VEVENT
DTSTART;TZID=Australia/Brisbane:20260215T120000
DTEND;TZID=Australia/Brisbane:20260215T160000
DTSTAMP:20260426T105109
CREATED:20260114T093259Z
LAST-MODIFIED:20260209T034917Z
UID:1946-1771156800-1771171200@csklubqld.org.au
SUMMARY:Neděle 15.2.2026 - oběd
DESCRIPTION:Polévka – Žampionový krém (Soup – Cream of Mushrooms)\nPečené vepřové maso\, zelí\, knedlík (Roast Pork\, Sauerkraut\, Dumpling)\nKuřecí řízek\, bramborový salát (Chicken Schnitzel\, Potato Salad)\nVepřový řízek\, bramborový salát (Pork Schnitzel\, Potato Salad) \nObjednejte si včas:\nM: 0497 344 377 \nE: ccq@csklubqld.org.au \nZměna jídelníčku vyhražena bez dalšího oznámení. Vedení klubu děkuje za pochopení 🙏🏻 \nChcete-li vyplnit tento formulář\, prosím povolte v prohlížeči JavaScript.Jméno *E-mail *Mobil / Telefon *DatumJídlo 1Jídlo 2Jídlo 3Jídlo 4KomentářRezervovat
URL:https://csklubqld.org.au/akce/nedele-15-2-2026-obed/
LOCATION:Czechoslovakian Club in Queensland\, 25 Upfield Street\, Burbank\, QLD\, 4156\, Australia
CATEGORIES:Sunday Lunch
ORGANIZER;CN="CCQ":MAILTO:ccqbrisbane@gmail.com
END:VEVENT
BEGIN:VEVENT
DTSTART;TZID=Australia/Brisbane:20260118T120000
DTEND;TZID=Australia/Brisbane:20260118T163000
DTSTAMP:20260426T105109
CREATED:20251206T205432Z
LAST-MODIFIED:20260101T035137Z
UID:1911-1768737600-1768753800@csklubqld.org.au
SUMMARY:Nedělní oběd - 18.1.2026 Švédský stůl (Smorgasbord)
DESCRIPTION:Různě upravená masa – vepřové\, kuřecí\, šunka\, masové kuličky\, květák\, pečené francouzské brambory\, různé druhy příloh\, salátů\, ovoce\, atd (various meat – pork\, chicken\, ham\, meatballs\, cauliflower\, roast French potatoes\, various side dishes\, salads\, fruit\, etc.) \nBar bude otevřen a coffee bar nabízí domácí zákusky (the bar will be open and the coffee bar offers home made cakes) \nV ceně obědu je zahrnut lístek na velkou tombolu (includes ticket for mega raffle). \nObjednejte si včas:\nM: 0497 344 377 \nE: ccq@csklubqld.org.au \nChcete-li vyplnit tento formulář\, prosím povolte v prohlížeči JavaScript.Jméno *Email *Mobil / Telefon *Zpráva *Odeslat
URL:https://csklubqld.org.au/akce/nedelni-obed-18-1-2026/
LOCATION:Czechoslovakian Club in Queensland\, 25 Upfield Street\, Burbank\, QLD\, 4156\, Australia
CATEGORIES:Sunday Lunch
ORGANIZER;CN="CCQ":MAILTO:ccqbrisbane@gmail.com
END:VEVENT
BEGIN:VEVENT
DTSTART;TZID=Australia/Brisbane:20251214T100000
DTEND;TZID=Australia/Brisbane:20251214T160000
DTSTAMP:20260426T105109
CREATED:20250719T084600Z
LAST-MODIFIED:20251117T065536Z
UID:1730-1765706400-1765728000@csklubqld.org.au
SUMMARY:Neděle 14.12. - Vánoční oběd
DESCRIPTION:VYPRODÁNO  \nNeděle 14.12. – Vánoční oběd Švédský stůl (Christmas lunch Smorgasbord) \nPolévka – Kapustnica od 10 hodin (Kapustnica from 10.00am) \nRůzně upravená masa – vepřové\, kuřecí řízky (Selection of  Meat – Pork\, Chicken Schnitzel)\nšunka\, masové kuličky (Ham\, Meatballs)\, vykostěné kachní stehýnko\, krůtí pečeně (Boneless Duck Leg\, Turkey Roast)\, pečené francouzské brambory (French Potato Bake)\nrůzné druhy příloh\, salátů\, ovoce\, atd. (Variety of Side Dishes and Salads\, Fruit) \nLístek na mega tombolu je zahrnut v ceně obědu (Ticked for Mega Raffle included). \nBar bude otevřen a coffee bar nabízí domácí zákusky. \nObjednejte si včas:\nM: 0497 344 377 \nE: ccq@csklubqld.org.au \n Změna jídelníčku vyhražena bez dalšího oznámení. Vedení klubu děkuje za pochopení 🙏🏻 \nChcete-li vyplnit tento formulář\, prosím povolte v prohlížeči JavaScript.Jméno *Email *Mobil / Telefon *Zpráva *Odeslat
URL:https://csklubqld.org.au/akce/nedele-vanocni-obed-14-12/
LOCATION:Czechoslovakian Club in Queensland\, 25 Upfield Street\, Burbank\, QLD\, 4156\, Australia
CATEGORIES:Sunday Lunch
ORGANIZER;CN="CCQ":MAILTO:ccqbrisbane@gmail.com
END:VEVENT
BEGIN:VEVENT
DTSTART;TZID=Australia/Brisbane:20251026T120000
DTEND;TZID=Australia/Brisbane:20251026T160000
DTSTAMP:20260426T105109
CREATED:20251002T065629Z
LAST-MODIFIED:20251002T065920Z
UID:1821-1761480000-1761494400@csklubqld.org.au
SUMMARY:Neděle - Oslava Národního dne - 26.10.
DESCRIPTION:Polévka – Babiččina bramboračka (Grandma Classic Potato)\nStaročeská vepřová pečeně\, zelí\, knedlík (Traditional roast Pork\, Sauerkraut\, Dumpling)\nKuřecí řízek\, bramborový salát – (Chicken Schnitzel\, Potato Salad)\nVepřový řízek\, bramborový salát – (Pork Schnitzel\, Potato Salad) \nObjednejte si včas:\nM: 0497 344 377 \nE: ccq@csklubqld.org.au \n  \nZměna jídelníčku vyhražena bez dalšího oznámení. Vedení klubu děkuje za pochopení 🙏🏻 \nChcete-li vyplnit tento formulář\, prosím povolte v prohlížeči JavaScript.Jméno *Email *Mobil / Telefon *Zpráva *Odeslat
URL:https://csklubqld.org.au/akce/obed-oslava-narodniho-dne-nedele-26-10/
LOCATION:Czechoslovakian Club in Queensland\, 25 Upfield Street\, Burbank\, QLD\, 4156\, Australia
CATEGORIES:Sunday Lunch
ORGANIZER;CN="CCQ":MAILTO:ccqbrisbane@gmail.com
END:VEVENT
BEGIN:VEVENT
DTSTART;TZID=Australia/Brisbane:20250914T120000
DTEND;TZID=Australia/Brisbane:20250914T150000
DTSTAMP:20260426T105109
CREATED:20250719T083437Z
LAST-MODIFIED:20250826T023102Z
UID:1720-1757851200-1757862000@csklubqld.org.au
SUMMARY:Neděle – Oběd 14.9.
DESCRIPTION:Polévka – Hovězí vývar s játrovou rýží (Beef Broth with Mini Dumplings)\nKlasická vepřová\, pečeně\, zelí\, knedlík (Classic Roast Pork\, Sauerkraut\, Dumpling)\nKuřecí / Vepřový řízek\, bramborový salát (Chicken / Pork Schnitzel\, Potato Salad)\n\nObjednejte si včas:\nM: 0497 344 377 \nE: ccq@csklubqld.org.au \n  \nZměna jídelníčku vyhražena bez dalšího oznámení. Vedení klubu děkuje za pochopení 🙏🏻 \nChcete-li vyplnit tento formulář\, prosím povolte v prohlížeči JavaScript.Jméno *E-mail *Mobil / Telefon *DatumJídlo 1Jídlo 2Jídlo 3Jídlo 4KomentářRezervovat
URL:https://csklubqld.org.au/akce/nedele-obed-17-9/
LOCATION:Czechoslovakian Club in Queensland\, 25 Upfield Street\, Burbank\, QLD\, 4156\, Australia
CATEGORIES:Sunday Lunch
ORGANIZER;CN="CCQ":MAILTO:ccqbrisbane@gmail.com
END:VEVENT
BEGIN:VEVENT
DTSTART;TZID=Australia/Brisbane:20250817T120000
DTEND;TZID=Australia/Brisbane:20250817T150000
DTSTAMP:20260426T105109
CREATED:20250710T063034Z
LAST-MODIFIED:20250801T081129Z
UID:1700-1755432000-1755442800@csklubqld.org.au
SUMMARY:Neďele – Oběd 17.8.
DESCRIPTION:Polévka – kuřecí s masem a nudlemi (Chicken with Meat and Noodles)\nSegedínský guláš s knedlíkem (Szegedín Goulash\, Dumpling) \n4EB AGM v 11 hodin Slovenská skupina\nPo obědě\n4EB AGM ve 2 hodiny Česká skupina \nObjednejte si včas:\nM: 0497 344 377 \nE: ccq@csklubqld.org.au \n  \nZměna jídelníčku vyhražena bez dalšího oznámení. Vedení klubu děkuje za pochopení 🙏🏻 \nChcete-li vyplnit tento formulář\, prosím povolte v prohlížeči JavaScript.Jméno *E-mail *Mobil / Telefon *DatumJídlo 1Jídlo 2Jídlo 3Jídlo 4KomentářRezervovat
URL:https://csklubqld.org.au/akce/sunday-lunch/
LOCATION:Czechoslovakian Club in Queensland\, 25 Upfield Street\, Burbank\, QLD\, 4156\, Australia
CATEGORIES:Sunday Lunch
ORGANIZER;CN="CCQ":MAILTO:ccqbrisbane@gmail.com
END:VEVENT
BEGIN:VEVENT
DTSTART;TZID=Australia/Brisbane:20250622T120000
DTEND;TZID=Australia/Brisbane:20250622T150000
DTSTAMP:20260426T105109
CREATED:20250618T045935Z
LAST-MODIFIED:20250618T210305Z
UID:1675-1750593600-1750604400@csklubqld.org.au
SUMMARY:Nedělní oběd 22.6.
DESCRIPTION:—— \n\nPolévka – Hovězí s játrovou rýží\, nudle (Beef Broth\, Liver Rice\, Noodles)\nKlasická Hovězí svíčková\, knedlík (Beef in Creamy Vegetable Sauce\, Dumpling)\nKuřecí / Vepřový řízek\, bramborový salát (Chicken / Pork Schnitzel\, Potato Salad)\nS polévkou (incl. soup)\n\nObjednejte si včas:\nM: 0497 344 377 \nCena: $25  \nE: ccq@csklubqld.org.au \nZměna jídelníčku vyhražena bez dalšího oznámení. Vedení klubu děkuje za pochopení 🙏🏻
URL:https://csklubqld.org.au/akce/nedelni-obed/
LOCATION:Czechoslovakian Club in Queensland\, 25 Upfield Street\, Burbank\, QLD\, 4156\, Australia
CATEGORIES:Sunday Lunch
ORGANIZER;CN="CCQ":MAILTO:ccqbrisbane@gmail.com
END:VEVENT
BEGIN:VEVENT
DTSTART;TZID=Australia/Brisbane:20250427T103000
DTEND;TZID=Australia/Brisbane:20250427T120000
DTSTAMP:20260426T105109
CREATED:20250325T092911Z
LAST-MODIFIED:20250419T064511Z
UID:1580-1745749800-1745755200@csklubqld.org.au
SUMMARY:AGM - Výroční valná hromada 27. dubna v 10:30.
DESCRIPTION:Výroční členská schůze\nZačátek v 10.30 dopoledne\nKlub bude otevřen pro veřejnost po schůzi v 11.45 \nK obědu\nSekaná svíčková\, houskový knedlík \nVčasné objednávky doporučujeme \nVolejte M: 0497 344 377 \nE: ccq@csklubqld.org.au
URL:https://csklubqld.org.au/akce/agm-vyrocni-valna-hromada-27-dubna-v-1030/
LOCATION:Czechoslovakian Club in Queensland\, 25 Upfield Street\, Burbank\, QLD\, 4156\, Australia
CATEGORIES:Sunday Lunch
ORGANIZER;CN="CCQ":MAILTO:ccqbrisbane@gmail.com
END:VEVENT
BEGIN:VEVENT
DTSTART;TZID=Australia/Brisbane:20250323T110000
DTEND;TZID=Australia/Brisbane:20250323T150000
DTSTAMP:20260426T105109
CREATED:20250228T234240Z
LAST-MODIFIED:20250311T022033Z
UID:1542-1742727600-1742742000@csklubqld.org.au
SUMMARY:Neděle 23.3 – Oběd Švédský stůl
DESCRIPTION:Oběd Švédský stůl\nRůzně upravená masa – vepřové\, kuřecí\, šunka\, masové kuličky\, pečené francouzské brambory\, různé druhy příloh\, salátů\, \nObjednejte si včas:\nM: 0497 344 377 \nE: ccq@csklubqld.org.au \nZměna jídelníčku vyhražena bez dalšího oznámení. Vedení klubu děkuje za pochopení 🙏🏻 \nRezervace jídlaChcete-li vyplnit tento formulář\, prosím povolte v prohlížeči JavaScript.Jméno *E-mail *Mobil / Telefon *DatumJídlo 1Jídlo 2Jídlo 3Jídlo 4KomentářRezervovat
URL:https://csklubqld.org.au/akce/nedele-16-3-obed-svedsky-stul/
LOCATION:Czechoslovakian Club in Queensland\, 25 Upfield Street\, Burbank\, QLD\, 4156\, Australia
CATEGORIES:Sunday Lunch
ORGANIZER;CN="CCQ":MAILTO:ccqbrisbane@gmail.com
END:VEVENT
BEGIN:VEVENT
DTSTART;TZID=Australia/Brisbane:20250119T120000
DTEND;TZID=Australia/Brisbane:20250119T150000
DTSTAMP:20260426T105109
CREATED:20250109T233625Z
LAST-MODIFIED:20250113T045749Z
UID:1485-1737288000-1737298800@csklubqld.org.au
SUMMARY:Neděle 19. ledna 2025 – Novoroční oběd ve formě Śvédského stolu (Smorgasbord) pro každého něco
DESCRIPTION:Různě upravené druhy masa\, výběr salátů\, \nOběd se podává od 12 té hodiny \nCena $30 zahrnuje los na novoroční tombolu \nE: ccq@csklubqld.org.au \nZměna jídelníčku vyhražena bez dalšího oznámení. Vedení klubu děkuje za pochopení 🙏🏻
URL:https://csklubqld.org.au/akce/nedele-19-ledna-2025-novorocni-obed-ve-forme-svedskeho-stolu-pro-kazdeho-neco/
LOCATION:Czechoslovakian Club in Queensland\, 25 Upfield Street\, Burbank\, QLD\, 4156\, Australia
CATEGORIES:Sunday Lunch
ORGANIZER;CN="CCQ":MAILTO:ccqbrisbane@gmail.com
END:VEVENT
BEGIN:VEVENT
DTSTART;TZID=Australia/Brisbane:20241027T100000
DTEND;TZID=Australia/Brisbane:20241027T160000
DTSTAMP:20260426T105109
CREATED:20240912T222457Z
LAST-MODIFIED:20241019T225958Z
UID:1402-1730023200-1730044800@csklubqld.org.au
SUMMARY:Neděle 27.10 – Oslava Národního dne
DESCRIPTION:Polévka – Kapustnica se podává od 10 hodin – (Soup – „Kapustnica“ served from 10am)\nVYPRODÁNO – Pečené vepřové koleno s křenem\, hořčicí a chlebem – (Pork Knuckle\, Horseradish\, Mustard\, Bread)\nKlasické halušky se slaninou a brynzou (Traditional Mini Potato Gnocchi\, Bacon\, Cheese)\nKuřecí řízek\, bramborový salát – (Chicken Schnitzel\, Potato Salad)\nVepřový řízek\, bramborový salát – (Pork Schnitzel\, Potato Salad)\n\nObjednejte si včas:\nM: 0497 344 377 \nE: ccq@csklubqld.org.au \nZměna jídelníčku vyhražena bez dalšího oznámení. Vedení klubu děkuje za pochopení 🙏🏻
URL:https://csklubqld.org.au/akce/nedele-27-10-oslava-narodniho-dne/
LOCATION:Czechoslovakian Club in Queensland\, 25 Upfield Street\, Burbank\, QLD\, 4156\, Australia
CATEGORIES:Sunday Lunch
END:VEVENT
END:VCALENDAR