BEGIN:VCALENDAR
VERSION:2.0
PRODID:-//CCQ - ECPv6.15.6//NONSGML v1.0//EN
CALSCALE:GREGORIAN
METHOD:PUBLISH
X-WR-CALNAME:CCQ
X-ORIGINAL-URL:https://csklubqld.org.au
X-WR-CALDESC:Akce na CCQ
REFRESH-INTERVAL;VALUE=DURATION:PT1H
X-Robots-Tag:noindex
X-PUBLISHED-TTL:PT1H
BEGIN:VTIMEZONE
TZID:Australia/Brisbane
BEGIN:STANDARD
TZOFFSETFROM:+1000
TZOFFSETTO:+1000
TZNAME:AEST
DTSTART:20230101T000000
END:STANDARD
END:VTIMEZONE
BEGIN:VEVENT
DTSTART;TZID=Australia/Brisbane:20250919T180000
DTEND;TZID=Australia/Brisbane:20250919T203000
DTSTAMP:20260426T140025
CREATED:20250826T020907Z
LAST-MODIFIED:20250826T020907Z
UID:1754-1758304800-1758313800@csklubqld.org.au
SUMMARY:Večeře - Pátek 19.9.
DESCRIPTION:Polévka – Uzená s kroupami (Smoked Pork with Barley)\nUzené\, červené zelí\, bramborový knedlík (Smoked Pork\, Red Sauerkraut\, Potato Dumpling)\nKuřecí /vepřový řízek\, bramborový salát (Chicken / Pork Schnitzel\, Potato Salad)\n\nObjednejte si včas:\nM: 0497 344 377 \nE: ccq@csklubqld.org.au \n  \nZměna jídelníčku vyhražena bez dalšího oznámení. Vedení klubu děkuje za pochopení 🙏🏻 \nChcete-li vyplnit tento formulář\, prosím povolte v prohlížeči JavaScript.Jméno *Email *Mobil / Telefon *Zpráva *Odeslat
URL:https://csklubqld.org.au/akce/vecere-patek-19-9/
LOCATION:Czechoslovakian Club in Queensland\, 25 Upfield Street\, Burbank\, QLD\, 4156\, Australia
CATEGORIES:Friday Dinner
ORGANIZER;CN="CCQ":MAILTO:ccqbrisbane@gmail.com
END:VEVENT
BEGIN:VEVENT
DTSTART;TZID=Australia/Brisbane:20250912T180000
DTEND;TZID=Australia/Brisbane:20250912T203000
DTSTAMP:20260426T140025
CREATED:20250826T020448Z
LAST-MODIFIED:20250826T021206Z
UID:1752-1757700000-1757709000@csklubqld.org.au
SUMMARY:Večeře - Pátek 12.9.
DESCRIPTION:Polévka – Dýňová (Pumpkin)\nHovězí v koprové omáčce\, knedlík (Beef in Dill Sauce\, Dumpling)\nKuřecí / Vepřový řízek\, selský salát (Chicken / Pork Schnitzel\, Farmers Potato Salad)\n\nObjednejte si včas:\nM: 0497 344 377 \nE: ccq@csklubqld.org.au \n  \nZměna jídelníčku vyhražena bez dalšího oznámení. Vedení klubu děkuje za pochopení 🙏🏻 \nChcete-li vyplnit tento formulář\, prosím povolte v prohlížeči JavaScript.Jméno *Email *Mobil / Telefon *Zpráva *Odeslat
URL:https://csklubqld.org.au/akce/vecere-patek-12-9/
LOCATION:Czechoslovakian Club in Queensland\, 25 Upfield Street\, Burbank\, QLD\, 4156\, Australia
CATEGORIES:Friday Dinner
ORGANIZER;CN="CCQ":MAILTO:ccqbrisbane@gmail.com
END:VEVENT
BEGIN:VEVENT
DTSTART;TZID=Australia/Brisbane:20250905T180000
DTEND;TZID=Australia/Brisbane:20250905T203000
DTSTAMP:20260426T140025
CREATED:20250826T015758Z
LAST-MODIFIED:20250826T021000Z
UID:1750-1757095200-1757104200@csklubqld.org.au
SUMMARY:Večeře - Pátek 5.9.
DESCRIPTION:Polévka – Fazolová (Bean)\nHovězí pikantní guláš\, knedlík (Tangy Beef Goulash\, Dumpling)\nKuřecí / Vepřový řízek\, bramborový salát (Kuřecí / Vepřový řízek\, bramborový salát)\n\nObjednejte si včas:\nM: 0497 344 377 \nE: ccq@csklubqld.org.au \n  \nZměna jídelníčku vyhražena bez dalšího oznámení. Vedení klubu děkuje za pochopení 🙏🏻 \nChcete-li vyplnit tento formulář\, prosím povolte v prohlížeči JavaScript.Jméno *Email *Mobil / Telefon *Zpráva *Odeslat
URL:https://csklubqld.org.au/akce/vecere-patek-5-9/
LOCATION:Czechoslovakian Club in Queensland\, 25 Upfield Street\, Burbank\, QLD\, 4156\, Australia
CATEGORIES:Friday Dinner
ORGANIZER;CN="CCQ":MAILTO:ccqbrisbane@gmail.com
END:VEVENT
BEGIN:VEVENT
DTSTART;TZID=Australia/Brisbane:20250829T180000
DTEND;TZID=Australia/Brisbane:20250829T203000
DTSTAMP:20260426T140025
CREATED:20250710T062705Z
LAST-MODIFIED:20250823T020815Z
UID:1697-1756490400-1756499400@csklubqld.org.au
SUMMARY:Večeře - Pátek 29.8.
DESCRIPTION:Polévka – Buřtguláš (Sausage Potato)\nPikantní “Katův šleh” opékané brambůrky (Tangy Pork “Katův Šleh” Roast Potato)\nKuřecí / Vepřový řízek s bramborovým salátem (Chicken / Pork Schnitzel\, Potato Salad) \nObjednejte si včas:\nM: 0497 344 377 \nE: ccq@csklubqld.org.au \n Změna jídelníčku vyhražena bez dalšího oznámení. Vedení klubu děkuje za pochopení 🙏🏻 \nChcete-li vyplnit tento formulář\, prosím povolte v prohlížeči JavaScript.Jméno *E-mail *Mobil / Telefon *DatumJídlo 1Jídlo 2Jídlo 3Jídlo 4KomentářRezervovat
URL:https://csklubqld.org.au/akce/friday-night-dinner-5/
LOCATION:Czechoslovakian Club in Queensland\, 25 Upfield Street\, Burbank\, QLD\, 4156\, Australia
CATEGORIES:Friday Dinner
ORGANIZER;CN="CCQ":MAILTO:ccqbrisbane@gmail.com
END:VEVENT
BEGIN:VEVENT
DTSTART;TZID=Australia/Brisbane:20250822T180000
DTEND;TZID=Australia/Brisbane:20250822T203000
DTSTAMP:20260426T140025
CREATED:20250710T062456Z
LAST-MODIFIED:20250801T081154Z
UID:1694-1755885600-1755894600@csklubqld.org.au
SUMMARY:Večeře - Pátek 22.8.
DESCRIPTION:Polévka – Zeleninová (Vegetable)\nSekaná svíčková\, knedlík (Meatloaf in Svíčková Gravy\, Dumpling)\nKuřecí / Vepřový řízek\, bramborový salát (Chicken / Pork Schnitzel\, Potato Salad ) \nObjednejte si včas:\nM: 0497 344 377 \nE: ccq@csklubqld.org.au \n Změna jídelníčku vyhražena bez dalšího oznámení. Vedení klubu děkuje za pochopení 🙏🏻 \nChcete-li vyplnit tento formulář\, prosím povolte v prohlížeči JavaScript.Jméno *E-mail *Mobil / Telefon *DatumJídlo 1Jídlo 2Jídlo 3Jídlo 4KomentářRezervovat
URL:https://csklubqld.org.au/akce/friday-night-dinner-4/
LOCATION:Czechoslovakian Club in Queensland\, 25 Upfield Street\, Burbank\, QLD\, 4156\, Australia
CATEGORIES:Friday Dinner
ORGANIZER;CN="CCQ":MAILTO:ccqbrisbane@gmail.com
END:VEVENT
BEGIN:VEVENT
DTSTART;TZID=Australia/Brisbane:20250815T180000
DTEND;TZID=Australia/Brisbane:20250815T203000
DTSTAMP:20260426T140025
CREATED:20250710T062202Z
LAST-MODIFIED:20250801T081059Z
UID:1692-1755280800-1755289800@csklubqld.org.au
SUMMARY:Večeře - Pátek 15.8.
DESCRIPTION:Polévka – Dýňová (Pumpkin)\nHovězí “Stroganoff” rýže (Beef “Stroganoff”\, Rice)\nKuřecí / vepřový řízek\, bramborový salát (Chicken / Pork Schnitzel\, Potato Salad) \nObjednejte si včas:\nM: 0497 344 377 \nE: ccq@csklubqld.org.au \nZměna jídelníčku vyhražena bez dalšího oznámení. Vedení klubu děkuje za pochopení 🙏🏻 \nChcete-li vyplnit tento formulář\, prosím povolte v prohlížeči JavaScript.Jméno *E-mail *Mobil / Telefon *DatumJídlo 1Jídlo 2Jídlo 3Jídlo 4KomentářRezervovat  \n 
URL:https://csklubqld.org.au/akce/friday-night-dinner-3/
LOCATION:Czechoslovakian Club in Queensland\, 25 Upfield Street\, Burbank\, QLD\, 4156\, Australia
CATEGORIES:Friday Dinner
ORGANIZER;CN="CCQ":MAILTO:ccqbrisbane@gmail.com
END:VEVENT
BEGIN:VEVENT
DTSTART;TZID=Australia/Brisbane:20250808T180000
DTEND;TZID=Australia/Brisbane:20250808T203000
DTSTAMP:20260426T140025
CREATED:20250710T061914Z
LAST-MODIFIED:20250801T081009Z
UID:1689-1754676000-1754685000@csklubqld.org.au
SUMMARY:Večeře - Pátek 8.8.
DESCRIPTION:Polévka – Hrachový krém s krutónkama (Pea Cream with Croutons)\nTelecí přírodní pečeně s bramborem\, salát (Veal Roast\, Tangy Potato Mash\, Salad )\nKuřecí / vepřový řízek s bramborem\, salát (Chicken / Pork Schnitzel\, Potato Salad ) \nObjednejte si včas:\nM: 0497 344 377 \nE: ccq@csklubqld.org.au \n Změna jídelníčku vyhražena bez dalšího oznámení. Vedení klubu děkuje za pochopení 🙏🏻 \nChcete-li vyplnit tento formulář\, prosím povolte v prohlížeči JavaScript.Jméno *E-mail *Mobil / Telefon *DatumJídlo 1Jídlo 2Jídlo 3Jídlo 4KomentářRezervovat  \n 
URL:https://csklubqld.org.au/akce/friday-night-dinner-2/
LOCATION:Czechoslovakian Club in Queensland\, 25 Upfield Street\, Burbank\, QLD\, 4156\, Australia
CATEGORIES:Friday Dinner
END:VEVENT
BEGIN:VEVENT
DTSTART;TZID=Australia/Brisbane:20250801T180000
DTEND;TZID=Australia/Brisbane:20250801T203000
DTSTAMP:20260426T140025
CREATED:20250710T061527Z
LAST-MODIFIED:20250710T064021Z
UID:1687-1754071200-1754080200@csklubqld.org.au
SUMMARY:Večeře - Pátek 1.8.
DESCRIPTION:Polévka – Pórková s bramborem (Leek Potato)\nMoravský vrabec\, zelí\, bramborový knedlík (Pork Bits\, Sauerkraut\, Potato Dumpling)\nKuřecí nebo vepřový řízek\, bramborový salát (Chicken / Pork Schnitzel\, Potato Salad ) \nObjednejte si včas:\nM: 0497 344 377 \nCena: $22  \nE: ccq@csklubqld.org.au \nZměna jídelníčku vyhražena bez dalšího oznámení. Vedení klubu děkuje za pochopení 🙏🏻
URL:https://csklubqld.org.au/akce/friday-night-dinner/
LOCATION:Czechoslovakian Club in Queensland\, 25 Upfield Street\, Burbank\, QLD\, 4156\, Australia
CATEGORIES:Friday Dinner
END:VEVENT
BEGIN:VEVENT
DTSTART;TZID=Australia/Brisbane:20250530T180000
DTEND;TZID=Australia/Brisbane:20250530T210000
DTSTAMP:20260426T140025
CREATED:20250419T064326Z
LAST-MODIFIED:20250419T064326Z
UID:1609-1748628000-1748638800@csklubqld.org.au
SUMMARY:Večeře – Pátek 30.5
DESCRIPTION:Polévka – Zeleninová\nMoravský vrabec\, červené zelí s bramborovým knedlíkem\nKuřecí řízek\, bramborový salát – (Chicken Schnitzel\, Potato Salad)\nVepřový řízek\, bramborový salát – (Pork Schnitzel\, Potato Salad)\n\nObjednejte si včas:\nM: 0497 344 377 \nE: ccq@csklubqld.org.au \nZměna jídelníčku vyhražena bez dalšího oznámení. Vedení klubu děkuje za pochopení 🙏🏻 \nRezervace jídlaChcete-li vyplnit tento formulář\, prosím povolte v prohlížeči JavaScript.Jméno *E-mail *Mobil / Telefon *DatumJídlo 1Jídlo 2Jídlo 3Jídlo 4KomentářRezervovat
URL:https://csklubqld.org.au/akce/vecere-patek-30-5/
LOCATION:Czechoslovakian Club in Queensland\, 25 Upfield Street\, Burbank\, QLD\, 4156\, Australia
CATEGORIES:Friday Dinner
ORGANIZER;CN="CCQ":MAILTO:ccqbrisbane@gmail.com
END:VEVENT
BEGIN:VEVENT
DTSTART;TZID=Australia/Brisbane:20250523T180000
DTEND;TZID=Australia/Brisbane:20250523T210000
DTSTAMP:20260426T140026
CREATED:20250419T064150Z
LAST-MODIFIED:20250419T064729Z
UID:1607-1748023200-1748034000@csklubqld.org.au
SUMMARY:Večeře – Pátek 23.5
DESCRIPTION:Polévka – Pórková\nRozlítaný ptáček\, knedlík (Ruffled Spanish Bird\, Dumpling)\nKuřecí řízek\, bramborový salát\nVepřový řízek\, bramborový salát\n\nObjednejte si včas:\nM: 0497 344 377 \nE: ccq@csklubqld.org.au \nZměna jídelníčku vyhražena bez dalšího oznámení. Vedení klubu děkuje za pochopení 🙏🏻 \nRezervace jídlaChcete-li vyplnit tento formulář\, prosím povolte v prohlížeči JavaScript.Jméno *E-mail *Mobil / Telefon *DatumJídlo 1Jídlo 2Jídlo 3Jídlo 4KomentářRezervovat
URL:https://csklubqld.org.au/akce/vecere-patek-23-5/
LOCATION:Czechoslovakian Club in Queensland\, 25 Upfield Street\, Burbank\, QLD\, 4156\, Australia
CATEGORIES:Friday Dinner
ORGANIZER;CN="CCQ":MAILTO:ccqbrisbane@gmail.com
END:VEVENT
BEGIN:VEVENT
DTSTART;TZID=Australia/Brisbane:20250516T180000
DTEND;TZID=Australia/Brisbane:20250516T210000
DTSTAMP:20260426T140026
CREATED:20250419T063934Z
LAST-MODIFIED:20250419T063934Z
UID:1604-1747418400-1747429200@csklubqld.org.au
SUMMARY:Večeře – Pátek 16.5
DESCRIPTION:Polévka – Staročeská bramboračka\nLepenice s domácí klobáskou (lepenice = šťouchané brambory s kyselým zelím)\nKuřecí řízek\, selský salát\nVepřový řízek\, selský salát\n\nObjednejte si včas:\nM: 0497 344 377 \nE: ccq@csklubqld.org.au \nZměna jídelníčku vyhražena bez dalšího oznámení. Vedení klubu děkuje za pochopení 🙏🏻 \nRezervace jídlaChcete-li vyplnit tento formulář\, prosím povolte v prohlížeči JavaScript.Jméno *E-mail *Mobil / Telefon *DatumJídlo 1Jídlo 2Jídlo 3Jídlo 4KomentářRezervovat
URL:https://csklubqld.org.au/akce/vecere-patek-16-5/
LOCATION:Czechoslovakian Club in Queensland\, 25 Upfield Street\, Burbank\, QLD\, 4156\, Australia
CATEGORIES:Friday Dinner
ORGANIZER;CN="CCQ":MAILTO:ccqbrisbane@gmail.com
END:VEVENT
BEGIN:VEVENT
DTSTART;TZID=Australia/Brisbane:20250509T180000
DTEND;TZID=Australia/Brisbane:20250509T210000
DTSTAMP:20260426T140026
CREATED:20250419T063732Z
LAST-MODIFIED:20250419T063732Z
UID:1602-1746813600-1746824400@csklubqld.org.au
SUMMARY:Večeře – Pátek 9.5
DESCRIPTION:Polévka – Čočková\nPlněné papriky\, knedlík\nKuřecí řízek\, bramborový salát – (Chicken Schnitzel\, Potato Salad)\nVepřový řízek\, bramborový salát – (Pork Schnitzel\, Potato Salad)\n\nObjednejte si včas:\nM: 0497 344 377 \nE: ccq@csklubqld.org.au \nZměna jídelníčku vyhražena bez dalšího oznámení. Vedení klubu děkuje za pochopení 🙏🏻 \nRezervace jídlaChcete-li vyplnit tento formulář\, prosím povolte v prohlížeči JavaScript.Jméno *E-mail *Mobil / Telefon *DatumJídlo 1Jídlo 2Jídlo 3Jídlo 4KomentářRezervovat
URL:https://csklubqld.org.au/akce/vecere-patek-9-5/
LOCATION:Czechoslovakian Club in Queensland\, 25 Upfield Street\, Burbank\, QLD\, 4156\, Australia
CATEGORIES:Friday Dinner
ORGANIZER;CN="CCQ":MAILTO:ccqbrisbane@gmail.com
END:VEVENT
BEGIN:VEVENT
DTSTART;TZID=Australia/Brisbane:20250502T180000
DTEND;TZID=Australia/Brisbane:20250502T210000
DTSTAMP:20260426T140026
CREATED:20250419T063551Z
LAST-MODIFIED:20250501T213943Z
UID:1600-1746208800-1746219600@csklubqld.org.au
SUMMARY:Večeře – Pátek 2.5
DESCRIPTION:Polévka – Kuřecí s masem a nudlemi\nVYPRODÁNO – Vepřová pečeně\, zelí\, knedlík\,\nKuřecí řízek\, bramborový salát – (Chicken Schnitzel\, Potato Salad)\nVepřový řízek\, bramborový salát – (Pork Schnitzel\, Potato Salad)\n\nObjednejte si včas:\nM: 0497 344 377 \nE: ccq@csklubqld.org.au \nZměna jídelníčku vyhražena bez dalšího oznámení. Vedení klubu děkuje za pochopení 🙏🏻 \nRezervace jídlaChcete-li vyplnit tento formulář\, prosím povolte v prohlížeči JavaScript.Jméno *E-mail *Mobil / Telefon *DatumJídlo 1Jídlo 2Jídlo 3Jídlo 4KomentářRezervovat
URL:https://csklubqld.org.au/akce/vecere-patek-2-5/
LOCATION:Czechoslovakian Club in Queensland\, 25 Upfield Street\, Burbank\, QLD\, 4156\, Australia
CATEGORIES:Friday Dinner
ORGANIZER;CN="CCQ":MAILTO:ccqbrisbane@gmail.com
END:VEVENT
BEGIN:VEVENT
DTSTART;VALUE=DATE:20250425
DTEND;VALUE=DATE:20250426
DTSTAMP:20260426T140026
CREATED:20250325T092540Z
LAST-MODIFIED:20250325T092548Z
UID:1577-1745539200-1745625599@csklubqld.org.au
SUMMARY:Československý klub bude na Den Anzac zavřený
DESCRIPTION:Československý klub bude na Den Anzac zavřený
URL:https://csklubqld.org.au/akce/ceskoslovensky-klub-bude-na-den-anzac-zavreny/
LOCATION:Czechoslovakian Club in Queensland\, 25 Upfield Street\, Burbank\, QLD\, 4156\, Australia
CATEGORIES:Friday Dinner
END:VEVENT
BEGIN:VEVENT
DTSTART;VALUE=DATE:20250418
DTEND;VALUE=DATE:20250419
DTSTAMP:20260426T140026
CREATED:20250325T092340Z
LAST-MODIFIED:20250325T092340Z
UID:1575-1744934400-1745020799@csklubqld.org.au
SUMMARY:Československý klub bude na Velký pátek zavřený.
DESCRIPTION:Československý klub bude na Velký pátek zavřený. 🐣
URL:https://csklubqld.org.au/akce/ceskoslovensky-klub-bude-na-velky-patek-zavreny/
LOCATION:Czechoslovakian Club in Queensland\, 25 Upfield Street\, Burbank\, QLD\, 4156\, Australia
CATEGORIES:Friday Dinner
END:VEVENT
BEGIN:VEVENT
DTSTART;TZID=Australia/Brisbane:20250411T173000
DTEND;TZID=Australia/Brisbane:20250411T213000
DTSTAMP:20260426T140026
CREATED:20250228T234940Z
LAST-MODIFIED:20250405T222459Z
UID:1550-1744392600-1744407000@csklubqld.org.au
SUMMARY:Večeře – Pátek 11.4
DESCRIPTION:Polévka – Hovězí vývar\nČočka na kyselo\, uzené (Smoked Pork)\, okurka\nKuřecí řízek\, brambory\, salát – (Chicken Schnitzel\, Potatos & Salad)\nVepřový řízek\, brambory\, salát – (Pork Schnitzel\, Potatos & Salad)\n\nObjednejte si včas:\nM: 0497 344 377 \nE: ccq@csklubqld.org.au \nZměna jídelníčku vyhražena bez dalšího oznámení. Vedení klubu děkuje za pochopení 🙏🏻 \nRezervace jídlaChcete-li vyplnit tento formulář\, prosím povolte v prohlížeči JavaScript.Jméno *E-mail *Mobil / Telefon *DatumJídlo 1Jídlo 2Jídlo 3Jídlo 4KomentářRezervovat
URL:https://csklubqld.org.au/akce/vecere-patek-11-4/
LOCATION:Czechoslovakian Club in Queensland\, 25 Upfield Street\, Burbank\, QLD\, 4156\, Australia
CATEGORIES:Friday Dinner
ORGANIZER;CN="CCQ":MAILTO:ccqbrisbane@gmail.com
END:VEVENT
BEGIN:VEVENT
DTSTART;TZID=Australia/Brisbane:20250404T173000
DTEND;TZID=Australia/Brisbane:20250404T213000
DTSTAMP:20260426T140026
CREATED:20250228T234734Z
LAST-MODIFIED:20250228T235448Z
UID:1548-1743787800-1743802200@csklubqld.org.au
SUMMARY:Večeře – Pátek 4.4
DESCRIPTION:Polévka – Frankfurtská\nHovězí v koprové omáčce\, knedlík\nSmažený sýr\, brambor\, tatarská omáčka\nKuřecí řízek\, brambory a salát – (Chicken Schnitzel\, Potato & Salad)\nVepřový řízek\, brambory a salát – (Pork Schnitzel\, Potato & Salad)\n\nObjednejte si včas:\nM: 0497 344 377 \nE: ccq@csklubqld.org.au \nZměna jídelníčku vyhražena bez dalšího oznámení. Vedení klubu děkuje za pochopení 🙏🏻 \nRezervace jídlaChcete-li vyplnit tento formulář\, prosím povolte v prohlížeči JavaScript.Jméno *E-mail *Mobil / Telefon *DatumJídlo 1Jídlo 2Jídlo 3Jídlo 4KomentářRezervovat
URL:https://csklubqld.org.au/akce/vecere-patek-4-4/
LOCATION:Czechoslovakian Club in Queensland\, 25 Upfield Street\, Burbank\, QLD\, 4156\, Australia
CATEGORIES:Friday Dinner
ORGANIZER;CN="CCQ":MAILTO:ccqbrisbane@gmail.com
END:VEVENT
BEGIN:VEVENT
DTSTART;TZID=Australia/Brisbane:20250328T173000
DTEND;TZID=Australia/Brisbane:20250328T213000
DTSTAMP:20260426T140026
CREATED:20250228T234550Z
LAST-MODIFIED:20250228T234550Z
UID:1546-1743183000-1743197400@csklubqld.org.au
SUMMARY:Večeře – Pátek 28.3
DESCRIPTION:Polévka – Zeleninová krémová s krutonky\nHovězí na houbách\, knedlík\nKuřecí řízek\, bramborový salát – (Chicken Schnitzel\, Potato Salad)\nVepřový řízek\, bramborový salát – (Pork Schnitzel\, Potato Salad)\n\nObjednejte si včas:\nM: 0497 344 377 \nE: ccq@csklubqld.org.au \nZměna jídelníčku vyhražena bez dalšího oznámení. Vedení klubu děkuje za pochopení 🙏🏻 \nRezervace jídlaChcete-li vyplnit tento formulář\, prosím povolte v prohlížeči JavaScript.Jméno *E-mail *Mobil / Telefon *DatumJídlo 1Jídlo 2Jídlo 3Jídlo 4KomentářRezervovat
URL:https://csklubqld.org.au/akce/vecere-patek-28-3/
LOCATION:Czechoslovakian Club in Queensland\, 25 Upfield Street\, Burbank\, QLD\, 4156\, Australia
CATEGORIES:Friday Dinner
ORGANIZER;CN="CCQ":MAILTO:ccqbrisbane@gmail.com
END:VEVENT
BEGIN:VEVENT
DTSTART;TZID=Australia/Brisbane:20250321T173000
DTEND;TZID=Australia/Brisbane:20250321T213000
DTSTAMP:20260426T140026
CREATED:20250228T234423Z
LAST-MODIFIED:20250311T021923Z
UID:1544-1742578200-1742592600@csklubqld.org.au
SUMMARY:Večeře – Pátek 21.3
DESCRIPTION:Polévka – Čočková\nKuře na karí\, rýže\nSmažené žampiony\, brambor\, tatarka\nKuřecí řízek\, bramborový salát – (Chicken Schnitzel\, Potato Salad)\nVepřový řízek\, bramborový salát – (Pork Schnitzel\, Potato Salad)\n\nObjednejte si včas:\nM: 0497 344 377 \nE: ccq@csklubqld.org.au \nZměna jídelníčku vyhražena bez dalšího oznámení. Vedení klubu děkuje za pochopení 🙏🏻 \nRezervace jídlaChcete-li vyplnit tento formulář\, prosím povolte v prohlížeči JavaScript.Jméno *E-mail *Mobil / Telefon *DatumJídlo 1Jídlo 2Jídlo 3Jídlo 4KomentářRezervovat
URL:https://csklubqld.org.au/akce/vecere-patek-21-3/
LOCATION:Czechoslovakian Club in Queensland\, 25 Upfield Street\, Burbank\, QLD\, 4156\, Australia
CATEGORIES:Friday Dinner
ORGANIZER;CN="CCQ":MAILTO:ccqbrisbane@gmail.com
END:VEVENT
BEGIN:VEVENT
DTSTART;TZID=Australia/Brisbane:20250314T173000
DTEND;TZID=Australia/Brisbane:20250314T213000
DTSTAMP:20260426T140026
CREATED:20250214T231235Z
LAST-MODIFIED:20250311T022316Z
UID:1538-1741973400-1741987800@csklubqld.org.au
SUMMARY:Československý klub tento pátek 14. března uzavřen.
DESCRIPTION:📢 IMPORTANT ANNOUNCEMENT – EVENT RESCHEDULING 📢 \nDear members and friends\, \nDue to the impacts of Cyclone Alfred\, including severe weather\, power outages\, and internet disruptions\, the Czechoslovakian Club will be closed this Friday\, March 14th\, and Sunday\, March 16th\, 2025. \n🔹 Friday’s menu will be moved to Friday\, March 21st \n🔹 Sunday’s event will take place on Sunday\, March 23rd \nWe apologise for the inconvenience and appreciate your understanding – your safety is our top priority! 🙏 Stay tuned for further updates and take care. \nThank you\, and stay safe! \n————————————————————————— \n📢 DŮLEŽITÉ OZNÁMENÍ – ZMĚNA TERMÍNŮ AKCÍ 📢 \nVážení členové a přátelé\, \nKvůli dopadům cyklónu Alfred\, včetně extrémního počasí\, výpadků elektřiny a internetu\, bude Československý klub tento pátek 14. března a neděli 16. března 2025 uzavřen. \n🔹 Páteční menu se přesouvá na pátek 21. března \n🔹 Nedělní akce proběhne v neděli 23. března \nOmlouváme se za komplikace a děkujeme za pochopení – vaše bezpečnost je pro nás na prvním místě! 🙏 Sledujte naši stránku pro další aktualizace a dávejte na sebe pozor. \nDěkujeme\, a zůstaňte v bezpečí!
URL:https://csklubqld.org.au/akce/vecere-patek-14-3/
LOCATION:Czechoslovakian Club in Queensland\, 25 Upfield Street\, Burbank\, QLD\, 4156\, Australia
CATEGORIES:Friday Dinner
ORGANIZER;CN="CCQ":MAILTO:ccqbrisbane@gmail.com
END:VEVENT
BEGIN:VEVENT
DTSTART;VALUE=DATE:20250307
DTEND;VALUE=DATE:20250308
DTSTAMP:20260426T140026
CREATED:20250214T231111Z
LAST-MODIFIED:20250304T072803Z
UID:1536-1741305600-1741391999@csklubqld.org.au
SUMMARY:Večeře – Pátek 7.3
DESCRIPTION:Vzhleden na povětrnostní situaci bude klub zavřen v pátek 7.3. \nĎěkujeme za porozumění.
URL:https://csklubqld.org.au/akce/vecere-patek-7-3/
LOCATION:Czechoslovakian Club in Queensland\, 25 Upfield Street\, Burbank\, QLD\, 4156\, Australia
CATEGORIES:Friday Dinner
ORGANIZER;CN="CCQ":MAILTO:ccqbrisbane@gmail.com
END:VEVENT
BEGIN:VEVENT
DTSTART;TZID=Australia/Brisbane:20250131T173000
DTEND;TZID=Australia/Brisbane:20250131T173000
DTSTAMP:20260426T140026
CREATED:20250109T234011Z
LAST-MODIFIED:20250109T234717Z
UID:1490-1738344600-1738344600@csklubqld.org.au
SUMMARY:Večeře – Pátek 31.1
DESCRIPTION:Polévka – Zeleninová\nPaprikáš\, halušky\nKuřecí řízek\, bramborový salát – (Chicken Schnitzel\, Potato Salad)\nVepřový řízek\, bramborový salát – (Pork Schnitzel\, Potato Salad)\n\nObjednejte si včas:\nM: 0497 344 377 \nE: ccq@csklubqld.org.au \nZměna jídelníčku vyhražena bez dalšího oznámení. Vedení klubu děkuje za pochopení 🙏🏻
URL:https://csklubqld.org.au/akce/vecere-patek-31-1/
LOCATION:Czechoslovakian Club in Queensland\, 25 Upfield Street\, Burbank\, QLD\, 4156\, Australia
CATEGORIES:Friday Dinner
ORGANIZER;CN="CCQ":MAILTO:ccqbrisbane@gmail.com
END:VEVENT
BEGIN:VEVENT
DTSTART;TZID=Australia/Brisbane:20241213T170000
DTEND;TZID=Australia/Brisbane:20241213T213000
DTSTAMP:20260426T140026
CREATED:20241128T044439Z
LAST-MODIFIED:20241128T044439Z
UID:1465-1734109200-1734125400@csklubqld.org.au
SUMMARY:Večeře – Pátek 13.12.
DESCRIPTION:Polévka – Dýňová\nBuřtíky (Bratwurst) opékané brambůrky\, zelný salát\nKuřecí řízek\, bramborový salát – (Chicken Schnitzel\, Potato Salad)\nVepřový řízek\, bramborový salát – (Pork Schnitzel\, Potato Salad)\n\nObjednejte si včas:\nM: 0497 344 377 \nE: ccq@csklubqld.org.au \nZměna jídelníčku vyhražena bez dalšího oznámení. Vedení klubu děkuje za pochopení 🙏🏻
URL:https://csklubqld.org.au/akce/vecere-patek-13-12/
CATEGORIES:Friday Dinner
END:VEVENT
BEGIN:VEVENT
DTSTART;TZID=Australia/Brisbane:20241129T173000
DTEND;TZID=Australia/Brisbane:20241129T213000
DTSTAMP:20260426T140026
CREATED:20241116T085413Z
LAST-MODIFIED:20241116T085413Z
UID:1458-1732901400-1732915800@csklubqld.org.au
SUMMARY:Večeře – Pátek 29.11
DESCRIPTION:Polévka – Uzená s kroupama\nHovězí pikantní guláš\, houskový knedlík\nKuřecí řízek\, bramborový salát – (Chicken Schnitzel\, Potato Salad)\nVepřový řízek\, bramborový salát – (Pork Schnitzel\, Potato Salad)\n\nObjednejte si včas:\nM: 0497 344 377 \nE: ccq@csklubqld.org.au \nZměna jídelníčku vyhražena bez dalšího oznámení. Vedení klubu děkuje za pochopení 🙏🏻
URL:https://csklubqld.org.au/akce/vecere-patek-29-11/
LOCATION:Czechoslovakian Club in Queensland\, 25 Upfield Street\, Burbank\, QLD\, 4156\, Australia
CATEGORIES:Friday Dinner
END:VEVENT
BEGIN:VEVENT
DTSTART;TZID=Australia/Brisbane:20241115T173000
DTEND;TZID=Australia/Brisbane:20241115T213000
DTSTAMP:20260426T140026
CREATED:20241116T085135Z
LAST-MODIFIED:20241116T085135Z
UID:1454-1731691800-1731706200@csklubqld.org.au
SUMMARY:Večeře – Pátek 15.11
DESCRIPTION:Polévka – Kuřecí vývar s nudlemi a masem\nStaročeská vepřová pečeně\, zelí\, knedlík\nKuřecí řízek\, bramborový salát – (Chicken Schnitzel\, Potato Salad)\nVepřový řízek\, bramborový salát – (Pork Schnitzel\, Potato Salad)\n\nObjednejte si včas:\nM: 0497 344 377 \nE: ccq@csklubqld.org.au \nZměna jídelníčku vyhražena bez dalšího oznámení. Vedení klubu děkuje za pochopení 🙏🏻
URL:https://csklubqld.org.au/akce/vecere-patek-15-11-2/
LOCATION:Czechoslovakian Club in Queensland\, 25 Upfield Street\, Burbank\, QLD\, 4156\, Australia
CATEGORIES:Friday Dinner
END:VEVENT
BEGIN:VEVENT
DTSTART;TZID=Australia/Brisbane:20241115T173000
DTEND;TZID=Australia/Brisbane:20241115T213000
DTSTAMP:20260426T140026
CREATED:20241104T072239Z
LAST-MODIFIED:20241104T072239Z
UID:1441-1731691800-1731706200@csklubqld.org.au
SUMMARY:Večeře – Pátek 15.11
DESCRIPTION:Polévka – Kuřecí vývar s nudlemi a masem\nStaročeská vepřová pečeně\, zelí knedlík\nKuřecí řízek\, bramborový salát – (Chicken Schnitzel\, Potato Salad)\nVepřový řízek\, bramborový salát – (Pork Schnitzel\, Potato Salad)\n\nObjednejte si včas:\nM: 0497 344 377 \nE: ccq@csklubqld.org.au \nZměna jídelníčku vyhražena bez dalšího oznámení. Vedení klubu děkuje za pochopení 🙏🏻
URL:https://csklubqld.org.au/akce/vecere-patek-15-11/
LOCATION:Czechoslovakian Club in Queensland\, 25 Upfield Street\, Burbank\, QLD\, 4156\, Australia
CATEGORIES:Friday Dinner
END:VEVENT
BEGIN:VEVENT
DTSTART;TZID=Australia/Brisbane:20241108T180000
DTEND;TZID=Australia/Brisbane:20241108T213000
DTSTAMP:20260426T140026
CREATED:20241104T072121Z
LAST-MODIFIED:20241104T072121Z
UID:1439-1731088800-1731101400@csklubqld.org.au
SUMMARY:Večeře – Pátek 8.11
DESCRIPTION:Polévka – Pórková\nPikantní kuře na kari s rýží\nSmažený květák\, brambor\, tatarská omáčka\nKuřecí řízek\, bramborový salát – (Chicken Schnitzel\, Potato Salad)\nVepřový řízek\, bramborový salát – (Pork Schnitzel\, Potato Salad)\n\nObjednejte si včas:\nM: 0497 344 377 \nE: ccq@csklubqld.org.au \nZměna jídelníčku vyhražena bez dalšího oznámení. Vedení klubu děkuje za pochopení 🙏🏻
URL:https://csklubqld.org.au/akce/vecere-patek-8-11/
LOCATION:Czechoslovakian Club in Queensland\, 25 Upfield Street\, Burbank\, QLD\, 4156\, Australia
CATEGORIES:Friday Dinner
END:VEVENT
BEGIN:VEVENT
DTSTART;TZID=Australia/Brisbane:20241101T173000
DTEND;TZID=Australia/Brisbane:20241101T213000
DTSTAMP:20260426T140026
CREATED:20240912T222654Z
LAST-MODIFIED:20240912T223528Z
UID:1404-1730482200-1730496600@csklubqld.org.au
SUMMARY:Večeře – Pátek 1.11
DESCRIPTION:Polévka – Hrachový krém s krutónkama – (Soup – Cream of Pea with Croutons)\nVepřový debrecínský guláš\, knedlík – (Pork Debrecen Goulash\, Dumpling)\nKuřecí řízek\, bramborový salát – (Chicken Schnitzel\, Potato Salad)\nVepřový řízek\, bramborový salát – (Pork Schnitzel\, Potato Salad)\n\nObjednejte si včas:\nM: 0497 344 377 \nE: ccq@csklubqld.org.au \nZměna jídelníčku vyhražena bez dalšího oznámení. Vedení klubu děkuje za pochopení 🙏🏻 \nRezervace jídlaChcete-li vyplnit tento formulář\, prosím povolte v prohlížeči JavaScript.Jméno *E-mail *Mobil / Telefon *DatumJídlo 1Jídlo 2Jídlo 3Jídlo 4KomentářRezervovat
URL:https://csklubqld.org.au/akce/vecere-patek-1-11/
LOCATION:Czechoslovakian Club in Queensland\, 25 Upfield Street\, Burbank\, QLD\, 4156\, Australia
CATEGORIES:Friday Dinner
END:VEVENT
BEGIN:VEVENT
DTSTART;TZID=Australia/Brisbane:20241018T173000
DTEND;TZID=Australia/Brisbane:20241018T213000
DTSTAMP:20260426T140026
CREATED:20240912T221948Z
LAST-MODIFIED:20240912T221948Z
UID:1398-1729272600-1729287000@csklubqld.org.au
SUMMARY:Večeře – Pátek 18.10
DESCRIPTION:Polévka – Ćočková – (Soup – Lentil)\nKuřecí paprikáš\, těstovinové halušky (Chicken Paprika\, Pasta Mini Gnocchi)\nKuřecí řízek\, bramborový salát – (Chicken Schnitzel\, Potato Salad)\nVepřový řízek\, bramborový salát – (Pork Schnitzel\, Potato Salad)\n\nObjednejte si včas:\nM: 0497 344 377 \nE: ccq@csklubqld.org.au \nZměna jídelníčku vyhražena bez dalšího oznámení. Vedení klubu děkuje za pochopení 🙏🏻
URL:https://csklubqld.org.au/akce/vecere-patek-18-10/
LOCATION:Czechoslovakian Club in Queensland\, 25 Upfield Street\, Burbank\, QLD\, 4156\, Australia
CATEGORIES:Friday Dinner
END:VEVENT
BEGIN:VEVENT
DTSTART;TZID=Australia/Brisbane:20241011T173000
DTEND;TZID=Australia/Brisbane:20241011T213000
DTSTAMP:20260426T140026
CREATED:20240912T221744Z
LAST-MODIFIED:20240912T221744Z
UID:1396-1728667800-1728682200@csklubqld.org.au
SUMMARY:Večeře – Pátek 11.10
DESCRIPTION:Polévka – Zeleninová – (Soup Vegetable)\nMoravský vrabec\, špenát\, bramborové špalíčky – (Moravian Robin\, Spinach\, Mini Potato Dumplings)\nSmažený sýr\, brambor\, tatarská omáčka – (Deep Fried Cheese\, Potato\, Tartare Sauce)\nKuřecí řízek\, bramborový salát – (Chicken Schnitzel\, Potato Salad)\nVepřový řízek\, bramborový salát – (Pork Schnitzel\, Potato Salad)\n\nObjednejte si včas:\nM: 0497 344 377 \nE: ccq@csklubqld.org.au \nZměna jídelníčku vyhražena bez dalšího oznámení. Vedení klubu děkuje za pochopení 🙏🏻
URL:https://csklubqld.org.au/akce/vecere-patek-11-10/
LOCATION:Czechoslovakian Club in Queensland\, 25 Upfield Street\, Burbank\, QLD\, 4156\, Australia
CATEGORIES:Friday Dinner
END:VEVENT
END:VCALENDAR