BEGIN:VCALENDAR
VERSION:2.0
PRODID:-//CCQ - ECPv6.15.6//NONSGML v1.0//EN
CALSCALE:GREGORIAN
METHOD:PUBLISH
X-ORIGINAL-URL:https://csklubqld.org.au
X-WR-CALDESC:Akce na CCQ
REFRESH-INTERVAL;VALUE=DURATION:PT1H
X-Robots-Tag:noindex
X-PUBLISHED-TTL:PT1H
BEGIN:VTIMEZONE
TZID:Australia/Brisbane
BEGIN:STANDARD
TZOFFSETFROM:+1000
TZOFFSETTO:+1000
TZNAME:AEST
DTSTART:20250101T000000
END:STANDARD
END:VTIMEZONE
BEGIN:VEVENT
DTSTART;TZID=Australia/Brisbane:20260206T180000
DTEND;TZID=Australia/Brisbane:20260206T210000
DTSTAMP:20260426T093313
CREATED:20260107T234305Z
LAST-MODIFIED:20260205T085140Z
UID:1929-1770400800-1770411600@csklubqld.org.au
SUMMARY:VYPRODÁNO (Sold out) Pátek 6.2.2026 - večeře
DESCRIPTION:Polévka – Zeleninová (Soup – Vegetable)\nHovězí guláš\, knedlík  (Beef Goulash\, Dumpling)\nKuřecí / Vepřový řízek\, bramborový salát (Chicken / Pork Schnitzel\, Potato Salad)\n\nObjednejte si včas:\nM: 0497 344 377 \nE: ccq@csklubqld.org.au \nZměna jídelníčku vyhražena bez dalšího oznámení. Vedení klubu děkuje za pochopení 🙏🏻 \nChcete-li vyplnit tento formulář\, prosím povolte v prohlížeči JavaScript.Jméno *E-mail *Mobil / Telefon *DatumJídlo 1Jídlo 2Jídlo 3Jídlo 4KomentářRezervovat
URL:https://csklubqld.org.au/akce/patek-6-2-2026-vecere/
LOCATION:Czechoslovakian Club in Queensland\, 25 Upfield Street\, Burbank\, QLD\, 4156\, Australia
CATEGORIES:Friday Dinner
ORGANIZER;CN="CCQ":MAILTO:ccqbrisbane@gmail.com
END:VEVENT
BEGIN:VEVENT
DTSTART;TZID=Australia/Brisbane:20260213T180000
DTEND;TZID=Australia/Brisbane:20260213T210000
DTSTAMP:20260426T093313
CREATED:20260107T234645Z
LAST-MODIFIED:20260209T034816Z
UID:1932-1771005600-1771016400@csklubqld.org.au
SUMMARY:Pátek 13.2.2026 - večeře
DESCRIPTION:Polévka – Klasická bramboračka (Soup – Classic Potato)\nKlasické halušky s bryndzou a slaninou  (Mini Gnocchi [halusky] Cheese\, Bacon)\nKuřecí / Vepřový řízek\, bramborový salát (Chicken / Pork Schnitzel\, Potato Salad)\n\nObjednejte si včas:\nM: 0497 344 377 \nE: ccq@csklubqld.org.au \nZměna jídelníčku vyhražena bez dalšího oznámení. Vedení klubu děkuje za pochopení 🙏🏻 \nChcete-li vyplnit tento formulář\, prosím povolte v prohlížeči JavaScript.Jméno *E-mail *Mobil / Telefon *DatumJídlo 1Jídlo 2Jídlo 3Jídlo 4KomentářRezervovat
URL:https://csklubqld.org.au/akce/patek-13-2-2026-vecere/
LOCATION:Czechoslovakian Club in Queensland\, 25 Upfield Street\, Burbank\, QLD\, 4156\, Australia
CATEGORIES:Friday Dinner
ORGANIZER;CN="CCQ":MAILTO:ccqbrisbane@gmail.com
END:VEVENT
BEGIN:VEVENT
DTSTART;TZID=Australia/Brisbane:20260220T180000
DTEND;TZID=Australia/Brisbane:20260220T210000
DTSTAMP:20260426T093313
CREATED:20260107T235040Z
LAST-MODIFIED:20260119T205215Z
UID:1935-1771610400-1771621200@csklubqld.org.au
SUMMARY:Pátek 20.2.2026 - večeře
DESCRIPTION:Polévka – Pórková s bramborem (Soup – Leek with Potato)\nSegedínský guláš\, knedlík (Szegedin Goulash\, Dumpling)\nKuřecí / Vepřový řízek\, bramborový salát (Chicken / Pork Schnitzel\, Potato Salad)\n\nObjednejte si včas:\nM: 0497 344 377 \nE: ccq@csklubqld.org.au \nZměna jídelníčku vyhražena bez dalšího oznámení. Vedení klubu děkuje za pochopení 🙏🏻 \nChcete-li vyplnit tento formulář\, prosím povolte v prohlížeči JavaScript.Jméno *E-mail *Mobil / Telefon *DatumJídlo 1Jídlo 2Jídlo 3Jídlo 4KomentářRezervovat
URL:https://csklubqld.org.au/akce/patek-20-2-2026-vecere/
LOCATION:Czechoslovakian Club in Queensland\, 25 Upfield Street\, Burbank\, QLD\, 4156\, Australia
CATEGORIES:Friday Dinner
ORGANIZER;CN="CCQ":MAILTO:ccqbrisbane@gmail.com
END:VEVENT
BEGIN:VEVENT
DTSTART;TZID=Australia/Brisbane:20260227T180000
DTEND;TZID=Australia/Brisbane:20260227T210000
DTSTAMP:20260426T093313
CREATED:20260107T235347Z
LAST-MODIFIED:20260209T034951Z
UID:1937-1772215200-1772226000@csklubqld.org.au
SUMMARY:Pátek 27.2.2026 - večeře
DESCRIPTION:Polévka – Fazolová s uzeninou (Bean with Bacon)\nRozlítaný ptáček\, rýže (Ruffled Spanish Bird\, Rice)\nKuřecí / Vepřový řízek\, bramborový salát (Chicken / Pork Schnitzel\, Potato Salad)\n\nObjednejte si včas:\nM: 0497 344 377 \nE: ccq@csklubqld.org.au \nZměna jídelníčku vyhražena bez dalšího oznámení. Vedení klubu děkuje za pochopení 🙏🏻 \nChcete-li vyplnit tento formulář\, prosím povolte v prohlížeči JavaScript.Jméno *E-mail *Mobil / Telefon *DatumJídlo 1Jídlo 2Jídlo 3Jídlo 4KomentářRezervovat  \n 
URL:https://csklubqld.org.au/akce/patek-27-2-2026-vecere/
LOCATION:Czechoslovakian Club in Queensland\, 25 Upfield Street\, Burbank\, QLD\, 4156\, Australia
CATEGORIES:Friday Dinner
ORGANIZER;CN="CCQ":MAILTO:ccqbrisbane@gmail.com
END:VEVENT
END:VCALENDAR