BEGIN:VCALENDAR
VERSION:2.0
PRODID:-//CCQ - ECPv6.15.6//NONSGML v1.0//EN
CALSCALE:GREGORIAN
METHOD:PUBLISH
X-ORIGINAL-URL:https://csklubqld.org.au
X-WR-CALDESC:Akce na CCQ
REFRESH-INTERVAL;VALUE=DURATION:PT1H
X-Robots-Tag:noindex
X-PUBLISHED-TTL:PT1H
BEGIN:VTIMEZONE
TZID:Australia/Brisbane
BEGIN:STANDARD
TZOFFSETFROM:+1000
TZOFFSETTO:+1000
TZNAME:AEST
DTSTART:20250101T000000
END:STANDARD
END:VTIMEZONE
BEGIN:VEVENT
DTSTART;TZID=Australia/Brisbane:20260306T080000
DTEND;TZID=Australia/Brisbane:20260306T170000
DTSTAMP:20260426T022242
CREATED:20260306T014325Z
LAST-MODIFIED:20260306T014325Z
UID:2018-1772784000-1772816400@csklubqld.org.au
SUMMARY:Neděle 17.5. - nedělní oběd - AGM
DESCRIPTION:Menu TBA \nVýroční členská schůze od 10.30 hod (AGM)
URL:https://csklubqld.org.au/akce/nedele-17-5-nedelni-obed-agm/
LOCATION:Czechoslovakian Club in Queensland\, 25 Upfield Street\, Burbank\, QLD\, 4156\, Australia
CATEGORIES:Sunday Lunch
ORGANIZER;CN="CCQ":MAILTO:ccqbrisbane@gmail.com
END:VEVENT
BEGIN:VEVENT
DTSTART;TZID=Australia/Brisbane:20260306T180000
DTEND;TZID=Australia/Brisbane:20260306T210000
DTSTAMP:20260426T022242
CREATED:20260107T235833Z
LAST-MODIFIED:20260306T014841Z
UID:1939-1772820000-1772830800@csklubqld.org.au
SUMMARY:Pátek 6.3.2026 - večeře
DESCRIPTION:VYPRODÁNO (SOLD OUT) \n\nPolévka – Kuřecí s nudlemi a masem (Soup – Chicken Noodle with Meat)\nSekaná svíčková\, knedlík (Meatloaf in Svickova Gravy\, Dumpling)\nKuřecí / Vepřový řízek\, bramborový salát (Chicken / Pork Schnitzel\, Potato Salad)\n\nObjednejte si včas:\nM: 0497 344 377 \nE: ccq@csklubqld.org.au \nZměna jídelníčku vyhražena bez dalšího oznámení. Vedení klubu děkuje za pochopení 🙏🏻 \nChcete-li vyplnit tento formulář\, prosím povolte v prohlížeči JavaScript.Jméno *E-mail *Mobil / Telefon *DatumJídlo 1Jídlo 2Jídlo 3Jídlo 4KomentářRezervovat
URL:https://csklubqld.org.au/akce/patek-6-3-2026-vecere/
LOCATION:QLD
CATEGORIES:Friday Dinner
ORGANIZER;CN="CCQ":MAILTO:ccqbrisbane@gmail.com
END:VEVENT
BEGIN:VEVENT
DTSTART;TZID=Australia/Brisbane:20260313T180000
DTEND;TZID=Australia/Brisbane:20260313T203000
DTSTAMP:20260426T022242
CREATED:20260303T060615Z
LAST-MODIFIED:20260303T060615Z
UID:1993-1773424800-1773433800@csklubqld.org.au
SUMMARY:Pátek 13.3. - večeře
DESCRIPTION:Polévka – Zeleninová – (Vegetable)\nKuře na paprice\, halušky – (Chicken Paprika\, Gnocchi)\nKuřecí řízek\, bramborový salát – (Chicken Schnitzel\, Potato Salad)\nVepřový řízek\, bramborový salát – (Pork Schnitzel\, Potato Salad) \nObjednejte si včas:\nM: 0497 344 377\nE: ccq@csklubqld.org.au \nZměna jídelníčku vyhražena bez dalšího oznámení. Vedení klubu děkuje za pochopení 🙏🏻 \nChcete-li vyplnit tento formulář\, prosím povolte v prohlížeči JavaScript.Jméno *E-mail *Mobil / Telefon *DatumJídlo 1Jídlo 2Jídlo 3Jídlo 4KomentářRezervovat
URL:https://csklubqld.org.au/akce/patek-13-3-vecere/
LOCATION:Czechoslovakian Club in Queensland\, 25 Upfield Street\, Burbank\, QLD\, 4156\, Australia
CATEGORIES:Friday Dinner
ORGANIZER;CN="CCQ":MAILTO:ccqbrisbane@gmail.com
END:VEVENT
BEGIN:VEVENT
DTSTART;TZID=Australia/Brisbane:20260320T180000
DTEND;TZID=Australia/Brisbane:20260320T200000
DTSTAMP:20260426T022242
CREATED:20260304T230006Z
LAST-MODIFIED:20260304T230006Z
UID:2000-1774029600-1774036800@csklubqld.org.au
SUMMARY:Pátek 20.3. - večeře
DESCRIPTION:Polévka – Hovězí s nudlemi a masem (Soup – beef broth with noodles and meat)\nHovězí v koprové omáčce\, knedlík (Beef in Dill Gravy\, Dumpling)\nKuřecí řízek\, brambor\, rajčatový salát (Chicken Schnitzel\, Potato\, Tomato Salad)\nVepřový řízek\, brambor\, rajčatový salát (Pork Schnitzel\, Potato\, Tomato Salad)\n\nObjednejte si včas:\nM: 0497 344 377 \nE: ccq@csklubqld.org.au \nZměna jídelníčku vyhražena bez dalšího oznámení. Vedení klubu děkuje za pochopení 🙏🏻 \nChcete-li vyplnit tento formulář\, prosím povolte v prohlížeči JavaScript.Jméno *E-mail *Mobil / Telefon *DatumJídlo 1Jídlo 2Jídlo 3Jídlo 4KomentářRezervovat
URL:https://csklubqld.org.au/akce/patek-20-3-vecere/
LOCATION:Czechoslovakian Club in Queensland\, 25 Upfield Street\, Burbank\, QLD\, 4156\, Australia
CATEGORIES:Friday Dinner
ORGANIZER;CN="CCQ":MAILTO:ccqbrisbane@gmail.com
END:VEVENT
BEGIN:VEVENT
DTSTART;TZID=Australia/Brisbane:20260327T180000
DTEND;TZID=Australia/Brisbane:20260327T200000
DTSTAMP:20260426T022242
CREATED:20260304T230814Z
LAST-MODIFIED:20260304T230831Z
UID:2002-1774634400-1774641600@csklubqld.org.au
SUMMARY:Pátek 27.3. - večeře
DESCRIPTION:Polévka – Ćočková (Soup – Lentil)\nDomácí sekaná\, bramborová kaše\, okurkový salát (Home made Matloaf\, Mashed Potato\, Cucumber Salad)\nKuřecí řízek\, brambor\, okurkový salát (Chicken Schnitzel\, Potato\, Cucumber Salad)\nVepřový řízek\, brambor\, okurkový salát (Pork Schnitzel\, Potato\, Cucumber Salad)\n\nPolévka je součástí každého jídla. Please note that the soup is part of every main meal. \nObjednejte si včas:\nM: 0497 344 377 \nE: ccq@csklubqld.org.au \nZměna jídelníčku vyhražena bez dalšího oznámení. Vedení klubu děkuje za pochopení 🙏🏻 \nChcete-li vyplnit tento formulář\, prosím povolte v prohlížeči JavaScript.Jméno *E-mail *Mobil / Telefon *DatumJídlo 1Jídlo 2Jídlo 3Jídlo 4KomentářRezervovat
URL:https://csklubqld.org.au/akce/patek-27-3-vecere/
LOCATION:Czechoslovakian Club in Queensland\, 25 Upfield Street\, Burbank\, QLD\, 4156\, Australia
CATEGORIES:Friday Dinner
ORGANIZER;CN="CCQ":MAILTO:ccqbrisbane@gmail.com
END:VEVENT
BEGIN:VEVENT
DTSTART;TZID=Australia/Brisbane:20260329T120000
DTEND;TZID=Australia/Brisbane:20260329T133000
DTSTAMP:20260426T022242
CREATED:20260119T205018Z
LAST-MODIFIED:20260304T231055Z
UID:1959-1774785600-1774791000@csklubqld.org.au
SUMMARY:Neděle 29.3.2026 - oběd
DESCRIPTION:Nedělní oběd před představením kouzelníka Roberta Foxe jenom do 13.30 hod (Lunch before the Magician performance until 1.30pm) \n\nGuláš s chlebem (Goulash with Bread)\n\nObjednejte si včas:\nM: 0497 344 377 \nE: ccq@csklubqld.org.au \n  \nZměna jídelníčku vyhražena bez dalšího oznámení. Vedení klubu děkuje za pochopení 🙏🏻 \nChcete-li vyplnit tento formulář\, prosím povolte v prohlížeči JavaScript.Jméno *Email *Mobil / Telefon *Zpráva *Odeslat
URL:https://csklubqld.org.au/akce/nedele-29-3-2026/
LOCATION:Czechoslovakian Club in Queensland\, 25 Upfield Street\, Burbank\, QLD\, 4156\, Australia
CATEGORIES:Sunday Lunch
ORGANIZER;CN="CCQ":MAILTO:ccqbrisbane@gmail.com
END:VEVENT
BEGIN:VEVENT
DTSTART;TZID=Australia/Brisbane:20260329T133000
DTEND;TZID=Australia/Brisbane:20260329T153000
DTSTAMP:20260426T022242
CREATED:20260115T003231Z
LAST-MODIFIED:20260119T204557Z
UID:1949-1774791000-1774798200@csklubqld.org.au
SUMMARY:29.3.2026 - Robert Fox - kouzelnik (Magician)
DESCRIPTION:Nedělní oběd před představením od 12.00 hod \nInformace od organizátora Petra Vítka: \nAhoj kamaradi a přiznivci Československych akci.\nTentokrat mame neobvykle vystoupeni a jak se řiká;\nYOU MUST SEE IT TO BELIEVE IT.\nAle ma to jeden háček.\nPočet listku je limitovan na 60 a to z důvodu aby všichni se mohli zůčastnit a vidět zblizka co Robert bude předvádět.\nKdo zaváha neuvidi.\ninfo na ; www.robertfox.cz\nTICKETS; www.trybooking.com/DGZVX\nAnebo QR code
URL:https://csklubqld.org.au/akce/robert-fox-kouzelnik-magician/
LOCATION:Czechoslovakian Club in Queensland\, 25 Upfield Street\, Burbank\, QLD\, 4156\, Australia
END:VEVENT
END:VCALENDAR