BEGIN:VCALENDAR
VERSION:2.0
PRODID:-//CCQ - ECPv6.15.6//NONSGML v1.0//EN
CALSCALE:GREGORIAN
METHOD:PUBLISH
X-WR-CALNAME:CCQ
X-ORIGINAL-URL:https://csklubqld.org.au
X-WR-CALDESC:Akce na CCQ
REFRESH-INTERVAL;VALUE=DURATION:PT1H
X-Robots-Tag:noindex
X-PUBLISHED-TTL:PT1H
BEGIN:VTIMEZONE
TZID:Australia/Brisbane
BEGIN:STANDARD
TZOFFSETFROM:+1000
TZOFFSETTO:+1000
TZNAME:AEST
DTSTART:20240101T000000
END:STANDARD
END:VTIMEZONE
BEGIN:VEVENT
DTSTART;TZID=Australia/Brisbane:20251205T180000
DTEND;TZID=Australia/Brisbane:20251205T203000
DTSTAMP:20260426T065700
CREATED:20251105T210900Z
LAST-MODIFIED:20251105T212035Z
UID:1867-1764957600-1764966600@csklubqld.org.au
SUMMARY:Pátek 5.12. - Večeře
DESCRIPTION:Polévka – Dýňová (Soup – Pumpkin) \nČočka s uzeným\, smažená cibulka\, okurka (Lentils\, Smoked Pork\, Fried Onion\, Gherkin)\nKuřecí / Vepřový řízek\, bramborový salát (Chicken / Pork Schnitzel\, Potato Salad) \nObjednejte si včas:\nM: 0497 344 377 \nE: ccq@csklubqld.org.au \n  \nZměna jídelníčku vyhražena bez dalšího oznámení. Vedení klubu děkuje za pochopení 🙏🏻 \nChcete-li vyplnit tento formulář\, prosím povolte v prohlížeči JavaScript.Jméno *E-mail *Mobil / Telefon *DatumJídlo 1Jídlo 2Jídlo 3Jídlo 4KomentářRezervovat
URL:https://csklubqld.org.au/akce/patek-5-12-vecere/
LOCATION:Czechoslovakian Club in Queensland\, 25 Upfield Street\, Burbank\, QLD\, 4156\, Australia
CATEGORIES:Friday Dinner
ORGANIZER;CN="CCQ":MAILTO:ccqbrisbane@gmail.com
END:VEVENT
BEGIN:VEVENT
DTSTART;TZID=Australia/Brisbane:20251206T113000
DTEND;TZID=Australia/Brisbane:20251206T170000
DTSTAMP:20260426T065700
CREATED:20250719T084410Z
LAST-MODIFIED:20251129T061431Z
UID:1728-1765020600-1765040400@csklubqld.org.au
SUMMARY:Sobota 6.12. - Mikuláš - St Nicholas
DESCRIPTION:  \nObčerstvení: Dietní párky v rohlíku\, Obložené chlebíčky (Continental Frankfurter – Hotdog\, Traditional Open sandwiches)\nOběd se v tento den nepodává (On this day lunch is not served)\nObjednejte si včas:\nM: 0497 344 377 \nE: ccq@csklubqld.org.au \n Změna jídelníčku vyhražena bez dalšího oznámení. Vedení klubu děkuje za pochopení 🙏🏻 \nChcete-li vyplnit tento formulář\, prosím povolte v prohlížeči JavaScript.Jméno *Email *Mobil / Telefon *Zpráva *Odeslat  \nMikuláš v Československém klubu v sobotu 6. prosince \nMikuláš letos netradičně začne divadlem s vánoční tématikou\, ve 12.00 hod. Děti a rodiče z České a Slovenské školy si připravili divadlo\, při kterém si připomeneme\, proč Vánoce slavíme. \nPo divadle budou následovat ruční dílny mezi 12:45-14.00 hod. Ke koupi budou malé\, dřevěné postavičky\, které si děti budou moci přeměnit buď v nějakou vánoční postavičku\, nebo třeba v princeznu a jiné. Česká a Slovenská škola se snaží našetřit peníze na zimní výlet se sněhem v roce 2027. \nMikuláš přijde ve 3 hodiny\, podívá se\, co děti vytvořily\, a předá jim dárky. Pokud chcete\, aby vaše dítko dárek dostalo a je mu méně než 12 let\, prosím nahlašte jméno na telefonní číslo klubu 0497 344 377 nebo email ccq@csklubqld.org.au nejpozději do 30.11.25. \nObčerstvení na Mikuláše bude jenom párek v rohlíku a chlebíčky a něco sladkého. KLUB NEVAŘI! Obědy nejsou. \nTěšíme se na Vás\,\nVedení klubu ve spolupráci s Českou a Slovenskou školou. \n 
URL:https://csklubqld.org.au/akce/mikulas-st-nicholas/
LOCATION:Czechoslovakian Club in Queensland\, 25 Upfield Street\, Burbank\, QLD\, 4156\, Australia
ORGANIZER;CN="CCQ":MAILTO:ccqbrisbane@gmail.com
END:VEVENT
BEGIN:VEVENT
DTSTART;TZID=Australia/Brisbane:20251212T180000
DTEND;TZID=Australia/Brisbane:20251212T203000
DTSTAMP:20260426T065700
CREATED:20251105T212431Z
LAST-MODIFIED:20251129T084856Z
UID:1873-1765562400-1765571400@csklubqld.org.au
SUMMARY:Pátek 12.12. - Večeře
DESCRIPTION:Polévka – Zelná s masem (Soup – Cabbage and Meat)\nSmažený květák/sýr\, brambor\, tatarka (Deep Fried Cauliflower/Cheese\, Potato\, Tartare sauce)\nKuřecí/Vepřový řízek\, brambor\, rajčatový salát (Chicken / Pork Schnitzel\, Potato\, Tomato Salad) \nObjednejte si včas:\nM: 0497 344 377 \nE: ccq@csklubqld.org.au \n Změna jídelníčku vyhražena bez dalšího oznámení. Vedení klubu děkuje za pochopení 🙏🏻 \nChcete-li vyplnit tento formulář\, prosím povolte v prohlížeči JavaScript.Jméno *E-mail *Mobil / Telefon *DatumJídlo 1Jídlo 2Jídlo 3Jídlo 4KomentářRezervovat
URL:https://csklubqld.org.au/akce/patek-12-12-vecere/
LOCATION:Czechoslovakian Club in Queensland\, 25 Upfield Street\, Burbank\, QLD\, 4156\, Australia
CATEGORIES:Friday Dinner
ORGANIZER;CN="CCQ":MAILTO:ccqbrisbane@gmail.com
END:VEVENT
BEGIN:VEVENT
DTSTART;TZID=Australia/Brisbane:20251214T100000
DTEND;TZID=Australia/Brisbane:20251214T160000
DTSTAMP:20260426T065700
CREATED:20250719T084600Z
LAST-MODIFIED:20251117T065536Z
UID:1730-1765706400-1765728000@csklubqld.org.au
SUMMARY:Neděle 14.12. - Vánoční oběd
DESCRIPTION:VYPRODÁNO  \nNeděle 14.12. – Vánoční oběd Švédský stůl (Christmas lunch Smorgasbord) \nPolévka – Kapustnica od 10 hodin (Kapustnica from 10.00am) \nRůzně upravená masa – vepřové\, kuřecí řízky (Selection of  Meat – Pork\, Chicken Schnitzel)\nšunka\, masové kuličky (Ham\, Meatballs)\, vykostěné kachní stehýnko\, krůtí pečeně (Boneless Duck Leg\, Turkey Roast)\, pečené francouzské brambory (French Potato Bake)\nrůzné druhy příloh\, salátů\, ovoce\, atd. (Variety of Side Dishes and Salads\, Fruit) \nLístek na mega tombolu je zahrnut v ceně obědu (Ticked for Mega Raffle included). \nBar bude otevřen a coffee bar nabízí domácí zákusky. \nObjednejte si včas:\nM: 0497 344 377 \nE: ccq@csklubqld.org.au \n Změna jídelníčku vyhražena bez dalšího oznámení. Vedení klubu děkuje za pochopení 🙏🏻 \nChcete-li vyplnit tento formulář\, prosím povolte v prohlížeči JavaScript.Jméno *Email *Mobil / Telefon *Zpráva *Odeslat
URL:https://csklubqld.org.au/akce/nedele-vanocni-obed-14-12/
LOCATION:Czechoslovakian Club in Queensland\, 25 Upfield Street\, Burbank\, QLD\, 4156\, Australia
CATEGORIES:Sunday Lunch
ORGANIZER;CN="CCQ":MAILTO:ccqbrisbane@gmail.com
END:VEVENT
END:VCALENDAR