BEGIN:VCALENDAR
VERSION:2.0
PRODID:-//CCQ - ECPv6.15.6//NONSGML v1.0//EN
CALSCALE:GREGORIAN
METHOD:PUBLISH
X-WR-CALNAME:CCQ
X-ORIGINAL-URL:https://csklubqld.org.au
X-WR-CALDESC:Akce na CCQ
REFRESH-INTERVAL;VALUE=DURATION:PT1H
X-Robots-Tag:noindex
X-PUBLISHED-TTL:PT1H
BEGIN:VTIMEZONE
TZID:Australia/Brisbane
BEGIN:STANDARD
TZOFFSETFROM:+1000
TZOFFSETTO:+1000
TZNAME:AEST
DTSTART:20240101T000000
END:STANDARD
END:VTIMEZONE
BEGIN:VEVENT
DTSTART;TZID=Australia/Brisbane:20251107T180000
DTEND;TZID=Australia/Brisbane:20251107T203000
DTSTAMP:20260426T081730
CREATED:20251002T100633Z
LAST-MODIFIED:20251102T092932Z
UID:1826-1762538400-1762547400@csklubqld.org.au
SUMMARY:Pátek - Večeře 7.11.
DESCRIPTION:Polévka – Květáková (Cauliflower)\nKuře na paprice\, knedlík (Chicken Paprika with Dumpling)\nKuřecí řízek\, bramborový salát – (Chicken Schnitzel\, Potato Salad)\nVepřový řízek\, bramborový salát – (Pork Schnitzel\, Potato Salad) \nObjednejte si včas:\nM: 0497 344 377 \nE: ccq@csklubqld.org.au \n  \nZměna jídelníčku vyhražena bez dalšího oznámení. Vedení klubu děkuje za pochopení 🙏🏻 \nChcete-li vyplnit tento formulář\, prosím povolte v prohlížeči JavaScript.Jméno *E-mail *Mobil / Telefon *DatumJídlo 1Jídlo 2Jídlo 3Jídlo 4KomentářRezervovat
URL:https://csklubqld.org.au/akce/patek-vecere-7-11/
LOCATION:Czechoslovakian Club in Queensland\, 25 Upfield Street\, Burbank\, QLD\, 4156\, Australia
CATEGORIES:Friday Dinner
ORGANIZER;CN="CCQ":MAILTO:ccqbrisbane@gmail.com
END:VEVENT
BEGIN:VEVENT
DTSTART;TZID=Australia/Brisbane:20251114T180000
DTEND;TZID=Australia/Brisbane:20251114T203000
DTSTAMP:20260426T081730
CREATED:20251002T101010Z
LAST-MODIFIED:20251030T080317Z
UID:1828-1763143200-1763152200@csklubqld.org.au
SUMMARY:Pátek - Večeře 14.11.
DESCRIPTION:Polévka – Źampionový krém s krutonky (Cream of  Mushroom\, Croutons)\nVepřové výpečky\, špenát\, bramb. knedlík (Pork Bites\, Spinach\, Potato dumpling)\nKuřecí řízek\, bramborový salát – (Chicken Schnitzel\, Potato Salad)\nVepřový řízek\, bramborový salát – (Pork Schnitzel\, Potato Salad) \nObjednejte si včas:\nM: 0497 344 377 \nE: ccq@csklubqld.org.au \n  \nZměna jídelníčku vyhražena bez dalšího oznámení. Vedení klubu děkuje za pochopení 🙏🏻 \nChcete-li vyplnit tento formulář\, prosím povolte v prohlížeči JavaScript.Jméno *E-mail *Mobil / Telefon *DatumJídlo 1Jídlo 2Jídlo 3Jídlo 4KomentářRezervovat
URL:https://csklubqld.org.au/akce/patek-vecere-14-11/
LOCATION:Czechoslovakian Club in Queensland\, 25 Upfield Street\, Burbank\, QLD\, 4156\, Australia
CATEGORIES:Friday Dinner
ORGANIZER;CN="CCQ":MAILTO:ccqbrisbane@gmail.com
END:VEVENT
BEGIN:VEVENT
DTSTART;TZID=Australia/Brisbane:20251114T190000
DTEND;TZID=Australia/Brisbane:20251116T190000
DTSTAMP:20260426T081730
CREATED:20250920T055129Z
LAST-MODIFIED:20251027T002615Z
UID:1784-1763146800-1763319600@csklubqld.org.au
SUMMARY:Czech & Slovak Film Festival 14.-16.11.
DESCRIPTION:Czech & Slovak Film Festival is being held in Brisbane this year. Enjoy the wonderful opportunity to watch some of the latest Czech and Slovak films. You can find the details of the films\, locations of screening\, and buy tickets on the link below: \nhttps://casffa.com.au/?city=brisbane \n  \nIndividual films links: \nhttps://casffa.com.au/event/caravan/ \nhttps://casffa.com.au/event/princess-goldenhair/ \nhttps://casffa.com.au/event/larks-on-a-string/ \nhttps://casffa.com.au/event/how-could-this-happen-to-us/ \nhttps://casffa.com.au/event/old-czech-legends/
URL:https://csklubqld.org.au/akce/czech-slovak-film-festival/
LOCATION:New Farm Cinemas\, 701 Brunswick Street\, New Farm\, QLD\, 4005\, Australia
END:VEVENT
BEGIN:VEVENT
DTSTART;TZID=Australia/Brisbane:20251115T180000
DTEND;TZID=Australia/Brisbane:20251115T180000
DTSTAMP:20260426T081730
CREATED:20251027T002339Z
LAST-MODIFIED:20251027T002454Z
UID:1842-1763229600-1763229600@csklubqld.org.au
SUMMARY:Disco 15.11. - ZRUŠENO
DESCRIPTION:
URL:https://csklubqld.org.au/akce/disco-15-11-zruseno/
LOCATION:QLD
END:VEVENT
BEGIN:VEVENT
DTSTART;TZID=Australia/Brisbane:20251121T180000
DTEND;TZID=Australia/Brisbane:20251121T203000
DTSTAMP:20260426T081730
CREATED:20251105T210018Z
LAST-MODIFIED:20251106T002726Z
UID:1861-1763748000-1763757000@csklubqld.org.au
SUMMARY:Pátek 21.11. - Večeře
DESCRIPTION:Polévka – Pórková s bramborem (Soup – Leek with Potato)\nHolandský řízek (vepřové mleté se sýrem)\, brambor a salát z rajčat (Dutch „Schnitzel“ – Pork mince and Cheese – with Potato\, Tomato Salad) \nKuřecí/Vepřový řízek\, brambor\, salát z rajčat (Chicken/Pork Schnitzel\, Potato\, Tomato Salad) \nObjednejte si včas:\nM: 0497 344 377 \nE: ccq@csklubqld.org.au \n  \nZměna jídelníčku vyhražena bez dalšího oznámení. Vedení klubu děkuje za pochopení 🙏🏻 \nChcete-li vyplnit tento formulář\, prosím povolte v prohlížeči JavaScript.Jméno *E-mail *Mobil / Telefon *DatumJídlo 1Jídlo 2Jídlo 3Jídlo 4KomentářRezervovat
URL:https://csklubqld.org.au/akce/patek-21-11-vecere/
LOCATION:Czechoslovakian Club in Queensland\, 25 Upfield Street\, Burbank\, QLD\, 4156\, Australia
CATEGORIES:Friday Dinner
ORGANIZER;CN="CCQ":MAILTO:ccqbrisbane@gmail.com
END:VEVENT
BEGIN:VEVENT
DTSTART;TZID=Australia/Brisbane:20251128T180000
DTEND;TZID=Australia/Brisbane:20251128T203000
DTSTAMP:20260426T081730
CREATED:20251105T210431Z
LAST-MODIFIED:20251126T065334Z
UID:1865-1764352800-1764361800@csklubqld.org.au
SUMMARY:Pátek 28.11. - Večeře
DESCRIPTION:VEČEŘE VYPRODÁNA \nPolévka – Zeleninová (Soup – Vegetable)\nKlasická Svíčková\, knedlík (Beef (Svíčková) in Vegetable Gravy\, Dumpling)\nKuřecí / Vepřový řízek\, bramborový salát (Chicken / Pork Schnitzel Potato Salad) \nObjednejte si včas:\nM: 0497 344 377 \nE: ccq@csklubqld.org.au \nChcete-li vyplnit tento formulář\, prosím povolte v prohlížeči JavaScript.Jméno *E-mail *Mobil / Telefon *DatumJídlo 1Jídlo 2Jídlo 3Jídlo 4KomentářRezervovat  \nZměna jídelníčku vyhražena bez dalšího oznámení. Vedení klubu děkuje za pochopení 🙏🏻
URL:https://csklubqld.org.au/akce/patek-28-11-vecere/
LOCATION:Czechoslovakian Club in Queensland\, 25 Upfield Street\, Burbank\, QLD\, 4156\, Australia
CATEGORIES:Friday Dinner
ORGANIZER;CN="CCQ":MAILTO:ccqbrisbane@gmail.com
END:VEVENT
END:VCALENDAR