BEGIN:VCALENDAR
VERSION:2.0
PRODID:-//CCQ - ECPv6.15.6//NONSGML v1.0//EN
CALSCALE:GREGORIAN
METHOD:PUBLISH
X-WR-CALNAME:CCQ
X-ORIGINAL-URL:https://csklubqld.org.au
X-WR-CALDESC:Akce na CCQ
REFRESH-INTERVAL;VALUE=DURATION:PT1H
X-Robots-Tag:noindex
X-PUBLISHED-TTL:PT1H
BEGIN:VTIMEZONE
TZID:Australia/Brisbane
BEGIN:STANDARD
TZOFFSETFROM:+1000
TZOFFSETTO:+1000
TZNAME:AEST
DTSTART:20250101T000000
END:STANDARD
END:VTIMEZONE
BEGIN:VEVENT
DTSTART;TZID=Australia/Brisbane:20260501T180000
DTEND;TZID=Australia/Brisbane:20260501T203000
DTSTAMP:20260425T221746
CREATED:20260415T031133Z
LAST-MODIFIED:20260415T032804Z
UID:2037-1777658400-1777667400@csklubqld.org.au
SUMMARY:Pátek 1.5.2026 - večeře
DESCRIPTION:Polévka – Dýňová (Pumpkin) \n\nČočka s uzeným\, smažená cibulka\, okurka (Lentil with Smoked Pork\, Fried Onion\, Gherkin)\nKuřecí řízek\, bramborový salát – (Chicken Schnitzel\, Potato Salad)\nVepřový řízek\, bramborový salát – (Pork Schnitzel\, Potato Salad)\n\nPolévka je součástí každého jídla. Please note that the soup is part of every main meal. \nObjednejte si včas:\nM: 0497 344 377 \nE: ccq@csklubqld.org.au \nZměna jídelníčku vyhražena bez dalšího oznámení. Vedení klubu děkuje za pochopení 🙏🏻 \nChcete-li vyplnit tento formulář\, prosím povolte v prohlížeči JavaScript.Jméno *E-mail *Mobil / Telefon *DatumJídlo 1Jídlo 2Jídlo 3Jídlo 4KomentářRezervovat
URL:https://csklubqld.org.au/akce/patek-1-5-2026-vecere/
LOCATION:Czechoslovakian Club in Queensland\, 25 Upfield Street\, Burbank\, QLD\, 4156\, Australia
CATEGORIES:Friday Dinner
ORGANIZER;CN="CCQ":MAILTO:ccqbrisbane@gmail.com
END:VEVENT
BEGIN:VEVENT
DTSTART;TZID=Australia/Brisbane:20260503T120000
DTEND;TZID=Australia/Brisbane:20260503T153000
DTSTAMP:20260425T221746
CREATED:20260415T032231Z
LAST-MODIFIED:20260415T032231Z
UID:2040-1777809600-1777822200@csklubqld.org.au
SUMMARY:Neděle 3.5.2026 - Nedělní oběd
DESCRIPTION:SMORGASBORD – stůl hojnosti \nOběd ku příležitosti 99. let oslav narozenin (1. května) Mirka Hájka a Dne Matek – \nOn this day we celebrate (1 May) Mirek Hájek’s 99th birthday with his Family\, also\, we celebrate early Mothers’ Day \n\nVelký výběr různě upraveného masa\, salátů\, zeleniny a příloh – pro každého něco (Variety and selection of meat dishes\, salads\, vegetables and accompaniments)\nBar a cukrárna otevřeny\, tombola a vše co patří k nedělnímu obědu (Bar and Coffee Bar open. Raffle and everything that is part of Sunday Lunch)\n\nObjednejte si včas:\nM: 0497 344 377 \nE: ccq@csklubqld.org.au \nChcete-li vyplnit tento formulář\, prosím povolte v prohlížeči JavaScript.Jméno *Email *Mobil / Telefon *Zpráva *Odeslat
URL:https://csklubqld.org.au/akce/nedele-3-5-2026-nedelni-obed/
LOCATION:Czechoslovakian Club in Queensland\, 25 Upfield Street\, Burbank\, QLD\, 4156\, Australia
CATEGORIES:Sunday Lunch
ORGANIZER;CN="CCQ":MAILTO:ccqbrisbane@gmail.com
END:VEVENT
BEGIN:VEVENT
DTSTART;TZID=Australia/Brisbane:20260508T180000
DTEND;TZID=Australia/Brisbane:20260508T203000
DTSTAMP:20260425T221746
CREATED:20260415T032625Z
LAST-MODIFIED:20260415T032819Z
UID:2043-1778263200-1778272200@csklubqld.org.au
SUMMARY:Pátek 8.5.2026 - večeře
DESCRIPTION:Polévka – Zeleninová (Soup – vegetable) \n\nKuře na paprice\, knedlík (Chicken Paprika\, Dumpling\, Chicken)\nKuřecí řízek\, bramborový salát – (Chicken Schnitzel\, Potato Salad)\nVepřový řízek\, bramborový salát – (Pork Schnitzel\, Potato Salad)\n\nPolévka je součástí každého jídla. Please note that the soup is part of every main meal. \nObjednejte si včas:\nM: 0497 344 377 \nE: ccq@csklubqld.org.au \nZměna jídelníčku vyhražena bez dalšího oznámení. Vedení klubu děkuje za pochopení 🙏🏻 \nChcete-li vyplnit tento formulář\, prosím povolte v prohlížeči JavaScript.Jméno *E-mail *Mobil / Telefon *DatumJídlo 1Jídlo 2Jídlo 3Jídlo 4KomentářRezervovat
URL:https://csklubqld.org.au/akce/patek-8-5-2026-vecere/
LOCATION:Czechoslovakian Club in Queensland\, 25 Upfield Street\, Burbank\, QLD\, 4156\, Australia
CATEGORIES:Friday Dinner
ORGANIZER;CN="CCQ":MAILTO:ccqbrisbane@gmail.com
END:VEVENT
BEGIN:VEVENT
DTSTART;TZID=Australia/Brisbane:20260515T180000
DTEND;TZID=Australia/Brisbane:20260515T203000
DTSTAMP:20260425T221746
CREATED:20260415T033238Z
LAST-MODIFIED:20260415T033238Z
UID:2048-1778868000-1778877000@csklubqld.org.au
SUMMARY:Pátek 15.5.2026 - večeře
DESCRIPTION:Polévka – Gulášová \n\nSmažený sýr\, brambor\, tatarka (Deep Fried Cheese\, Potato\, Home made Tartare Sauce)\nKuřecí řízek\, brambor\, rajčatový salát – (Chicken Schnitzel\, Potato\, Tomato  Salad)\nVepřový řízek\, brambor\, rajčatový salát – (Pork Schnitzel\, Potato\, Tomato Salad)\n\n Polévka je součástí každého jídla. Please note that the soup is part of every main meal. \nObjednejte si včas:\nM: 0497 344 377 \nE: ccq@csklubqld.org.au \nZměna jídelníčku vyhražena bez dalšího oznámení. Vedení klubu děkuje za pochopení 🙏🏻 \nChcete-li vyplnit tento formulář\, prosím povolte v prohlížeči JavaScript.Jméno *E-mail *Mobil / Telefon *DatumJídlo 1Jídlo 2Jídlo 3Jídlo 4KomentářRezervovat
URL:https://csklubqld.org.au/akce/patek-15-5-2026-vecere/
LOCATION:Czechoslovakian Club in Queensland\, 25 Upfield Street\, Burbank\, QLD\, 4156\, Australia
CATEGORIES:Friday Dinner
ORGANIZER;CN="CCQ":MAILTO:ccqbrisbane@gmail.com
END:VEVENT
BEGIN:VEVENT
DTSTART;TZID=Australia/Brisbane:20260517T120000
DTEND;TZID=Australia/Brisbane:20260517T153000
DTSTAMP:20260425T221746
CREATED:20260415T033832Z
LAST-MODIFIED:20260415T033832Z
UID:2051-1779019200-1779031800@csklubqld.org.au
SUMMARY:Neděle 17.5 – Klub AGM – Výroční členská schůze
DESCRIPTION:Katův šleh s bramborem (Pork in Tangy Sauce with Potato) \nObjednejte si včas:\nM: 0497 344 377 \nE: ccq@csklubqld.org.au \nZměna jídelníčku vyhražena bez dalšího oznámení. Vedení klubu děkuje za pochopení 🙏🏻 \nChcete-li vyplnit tento formulář\, prosím povolte v prohlížeči JavaScript.Jméno *E-mail *Mobil / Telefon *DatumJídlo 1Jídlo 2Jídlo 3Jídlo 4KomentářRezervovat
URL:https://csklubqld.org.au/akce/nedele-17-5-klub-agm-vyrocni-clenska-schuze/
LOCATION:Czechoslovakian Club in Queensland\, 25 Upfield Street\, Burbank\, QLD\, 4156\, Australia
CATEGORIES:Sunday Lunch
ORGANIZER;CN="CCQ":MAILTO:ccqbrisbane@gmail.com
END:VEVENT
BEGIN:VEVENT
DTSTART;TZID=Australia/Brisbane:20260530T100000
DTEND;TZID=Australia/Brisbane:20260530T160000
DTSTAMP:20260425T221746
CREATED:20251205T200455Z
LAST-MODIFIED:20260310T090500Z
UID:1905-1780135200-1780156800@csklubqld.org.au
SUMMARY:Sobota 30.5.2026 - Den dětí - Family Fun Fair
DESCRIPTION:Rádi bychom vás pozvali na Dětský den 30.5 v Československém klubu.\n\n\nPozor\, vstupné $5 je v předprodeji již teď. U brány vstup za $7.\n\n\nNa co se můžete tešit? Hry pro děti\, hry pro rodiny\, lucky draw\, stánky\, dobroty\, cukrová vata\, Marlenka\, perníčky.\n\n\nNa jídlo budou párky nebo guláš s chlebem\, masový i fazolový/vegetariansky s chlebem.\n\n\nKlub bude mit otevreny bar. O hudební zábavu se postará host pan Karol Csino.\n\n\nPodujetí je organizováno jako fundraising událost pro Českou a Slovenskou školu v Brisbane. Doufáme\, že s sebou vezmete své přátele a rodinu\, a to i z jiných kruhů než z Čech a Slovenska.\n——\n\nWe would like to invite you to Children’s Day 30.5 at the Czechoslovak Club. \nAttention\, the $5 entrance fee is on sale tonight. Entrance at the gate for $7. \nWhat can you look forward to? Games for children\, games for families\, lucky draw\, stalls\, goodies\, cotton candy\, Marlenka\, gingerbread. \nThe food will be sausages or goulash with bread\, meat and bean/vegetarian with bread. \nThe club will have a bar open. Musical entertainment will be provided by guest Mr. Karol Csino. \nThe event is organized as a fundraising event for the Czech and Slovak School in Brisbane. We hope you will bring your friends and family with you\, even from circles other than Bohemia and Slovakia. \n\n\nChcete-li vyplnit tento formulář\, prosím povolte v prohlížeči JavaScript.Jméno *Email *Mobil / Telefon *Zpráva *Odeslat  \n \n 
URL:https://csklubqld.org.au/akce/sobota-30-5-2026-family-fun-fair/
LOCATION:Czechoslovakian Club in Queensland\, 25 Upfield Street\, Burbank\, QLD\, 4156\, Australia
CATEGORIES:Fair
ORGANIZER;CN="CCQ":MAILTO:ccqbrisbane@gmail.com
END:VEVENT
BEGIN:VEVENT
DTSTART;TZID=Australia/Brisbane:20260614T110000
DTEND;TZID=Australia/Brisbane:20260614T160000
DTSTAMP:20260425T221746
CREATED:20260306T013941Z
LAST-MODIFIED:20260306T013941Z
UID:2016-1781434800-1781452800@csklubqld.org.au
SUMMARY:Neděle 14.6. - oběd - Vítání miminek
DESCRIPTION:Welcome of the babies to the Community Ceremony at 11.00 am \nMenu TBA
URL:https://csklubqld.org.au/akce/nedele-14-6-obed-vitani-miminek/
LOCATION:Czechoslovakian Club in Queensland\, 25 Upfield Street\, Burbank\, QLD\, 4156\, Australia
CATEGORIES:Sunday Lunch
ORGANIZER;CN="CCQ":MAILTO:ccqbrisbane@gmail.com
END:VEVENT
BEGIN:VEVENT
DTSTART;TZID=Australia/Brisbane:20260726T113000
DTEND;TZID=Australia/Brisbane:20260726T160000
DTSTAMP:20260425T221746
CREATED:20260306T014530Z
LAST-MODIFIED:20260325T000605Z
UID:2020-1785065400-1785081600@csklubqld.org.au
SUMMARY:Neděle 26.7. - nedělní oběd sv. Anna
DESCRIPTION:Menu TBA
URL:https://csklubqld.org.au/akce/nedele-26-7-nedelni-obed-sv-anna/
LOCATION:Czechoslovakian Club in Queensland\, 25 Upfield Street\, Burbank\, QLD\, 4156\, Australia
CATEGORIES:Sunday Lunch
ORGANIZER;CN="CCQ":MAILTO:ccqbrisbane@gmail.com
END:VEVENT
BEGIN:VEVENT
DTSTART;TZID=Australia/Brisbane:20260816T110000
DTEND;TZID=Australia/Brisbane:20260816T160000
DTSTAMP:20260425T221746
CREATED:20260306T014755Z
LAST-MODIFIED:20260306T014755Z
UID:2022-1786878000-1786896000@csklubqld.org.au
SUMMARY:Neděle 16.8. - nedělní oběd
DESCRIPTION:Menu TBA \nSlovak and Czech Radio 4EB groups AGM
URL:https://csklubqld.org.au/akce/nedele-16-8-nedelni-obed/
LOCATION:Czechoslovakian Club in Queensland\, 25 Upfield Street\, Burbank\, QLD\, 4156\, Australia
CATEGORIES:Sunday Lunch
ORGANIZER;CN="CCQ":MAILTO:ccqbrisbane@gmail.com
END:VEVENT
END:VCALENDAR