BEGIN:VCALENDAR
VERSION:2.0
PRODID:-//CCQ - ECPv6.15.6//NONSGML v1.0//EN
CALSCALE:GREGORIAN
METHOD:PUBLISH
X-WR-CALNAME:CCQ
X-ORIGINAL-URL:https://csklubqld.org.au
X-WR-CALDESC:Akce na CCQ
REFRESH-INTERVAL;VALUE=DURATION:PT1H
X-Robots-Tag:noindex
X-PUBLISHED-TTL:PT1H
BEGIN:VTIMEZONE
TZID:Australia/Brisbane
BEGIN:STANDARD
TZOFFSETFROM:+1000
TZOFFSETTO:+1000
TZNAME:AEST
DTSTART:20250101T000000
END:STANDARD
END:VTIMEZONE
BEGIN:VEVENT
DTSTART;TZID=Australia/Brisbane:20260410T180000
DTEND;TZID=Australia/Brisbane:20260410T200000
DTSTAMP:20260426T021737
CREATED:20260306T012823Z
LAST-MODIFIED:20260306T012823Z
UID:2011-1775844000-1775851200@csklubqld.org.au
SUMMARY:Pátek 10.4. - večeře
DESCRIPTION:Polévka – Tradiční česnečka (Soup – Classic Garlic) \n\nKachní stehno bez kosti\, červené zelí\, bramborový knedlík (Boneless Duck Leg\, Red Cabbage\, Potato Dumpling)\nKuřecí řízek\, bramborový salát (Chicken Schnitzel\, Potato Salad)\nVepřový řízek\, bramborový salát (Pork Schnitzel\, Potato Salad)\n\nPolévka je součástí každého jídla. Please note that the soup is part of every main meal. \nObjednejte si včas:\nM: 0497 344 377 \nE: ccq@csklubqld.org.au \nZměna jídelníčku vyhražena bez dalšího oznámení. Vedení klubu děkuje za pochopení 🙏🏻 \nChcete-li vyplnit tento formulář\, prosím povolte v prohlížeči JavaScript.Jméno *E-mail *Mobil / Telefon *DatumJídlo 1Jídlo 2Jídlo 3Jídlo 4KomentářRezervovat
URL:https://csklubqld.org.au/akce/patek-10-4-vecere/
LOCATION:Czechoslovakian Club in Queensland\, 25 Upfield Street\, Burbank\, QLD\, 4156\, Australia
CATEGORIES:Friday Dinner
ORGANIZER;CN="CCQ":MAILTO:ccqbrisbane@gmail.com
END:VEVENT
END:VCALENDAR