BEGIN:VCALENDAR
VERSION:2.0
PRODID:-//CCQ - ECPv6.15.6//NONSGML v1.0//EN
CALSCALE:GREGORIAN
METHOD:PUBLISH
X-ORIGINAL-URL:https://csklubqld.org.au
X-WR-CALDESC:Akce na CCQ
REFRESH-INTERVAL;VALUE=DURATION:PT1H
X-Robots-Tag:noindex
X-PUBLISHED-TTL:PT1H
BEGIN:VTIMEZONE
TZID:Australia/Brisbane
BEGIN:STANDARD
TZOFFSETFROM:+1000
TZOFFSETTO:+1000
TZNAME:AEST
DTSTART:20250101T000000
END:STANDARD
END:VTIMEZONE
BEGIN:VEVENT
DTSTART;TZID=Australia/Brisbane:20260110T080000
DTEND;TZID=Australia/Brisbane:20260110T120000
DTSTAMP:20260426T065752
CREATED:20251205T201303Z
LAST-MODIFIED:20251229T064559Z
UID:1907-1768032000-1768046400@csklubqld.org.au
SUMMARY:Sobota 10.1.2026 - Brigáda (Working Bee)
DESCRIPTION:Čištění a příprava klubu na otevření v Novém roce. Dobrovolníci vítání. Občerstvení bude zajištěno pro všechny. \n  \nChcete-li vyplnit tento formulář\, prosím povolte v prohlížeči JavaScript.Jméno *Email *Mobil / Telefon *Zpráva *Odeslat
URL:https://csklubqld.org.au/akce/sobota-10-01-2026-brigada-working-bee/
LOCATION:Czechoslovakian Club in Queensland\, 25 Upfield Street\, Burbank\, QLD\, 4156\, Australia
CATEGORIES:Brigáda
ORGANIZER;CN="CCQ":MAILTO:ccqbrisbane@gmail.com
END:VEVENT
END:VCALENDAR