BEGIN:VCALENDAR
VERSION:2.0
PRODID:-//CCQ - ECPv6.15.6//NONSGML v1.0//EN
CALSCALE:GREGORIAN
METHOD:PUBLISH
X-ORIGINAL-URL:https://csklubqld.org.au
X-WR-CALDESC:Akce na CCQ
REFRESH-INTERVAL;VALUE=DURATION:PT1H
X-Robots-Tag:noindex
X-PUBLISHED-TTL:PT1H
BEGIN:VTIMEZONE
TZID:Australia/Brisbane
BEGIN:STANDARD
TZOFFSETFROM:+1000
TZOFFSETTO:+1000
TZNAME:AEST
DTSTART:20240101T000000
END:STANDARD
END:VTIMEZONE
BEGIN:VEVENT
DTSTART;TZID=Australia/Brisbane:20251024T180000
DTEND;TZID=Australia/Brisbane:20251024T203000
DTSTAMP:20260426T110503
CREATED:20251002T064554Z
LAST-MODIFIED:20251021T080000Z
UID:1816-1761328800-1761337800@csklubqld.org.au
SUMMARY:Pátek - Večeře 24.10.
DESCRIPTION:Polévka – Zeleninová (Vegetable)\nHalušky s bryndzou a slaninou (Mini Gnocchi with Bryndza Cheese\, Bacon)\nKuřecí řízek\, šťouchané brambory\, salát – (Chicken Schnitzel\, Mash Potato\, Salad)\nVepřový řízek\, šťouchané brambory\, salát – (Pork Schnitzel\, Mash Potato\, Salad) \n  \nObjednejte si včas:\nM: 0497 344 377 \nE: ccq@csklubqld.org.au \n  \nZměna jídelníčku vyhražena bez dalšího oznámení. Vedení klubu děkuje za pochopení 🙏🏻 \nChcete-li vyplnit tento formulář\, prosím povolte v prohlížeči JavaScript.Jméno *Email *Mobil / Telefon *Zpráva *Odeslat
URL:https://csklubqld.org.au/akce/patek-vecere-24-10/
LOCATION:Czechoslovakian Club in Queensland\, 25 Upfield Street\, Burbank\, QLD\, 4156\, Australia
CATEGORIES:Friday Dinner
ORGANIZER;CN="CCQ":MAILTO:ccqbrisbane@gmail.com
END:VEVENT
END:VCALENDAR