BEGIN:VCALENDAR
VERSION:2.0
PRODID:-//CCQ - ECPv6.15.6//NONSGML v1.0//EN
CALSCALE:GREGORIAN
METHOD:PUBLISH
X-ORIGINAL-URL:https://csklubqld.org.au
X-WR-CALDESC:Akce na CCQ
REFRESH-INTERVAL;VALUE=DURATION:PT1H
X-Robots-Tag:noindex
X-PUBLISHED-TTL:PT1H
BEGIN:VTIMEZONE
TZID:Australia/Brisbane
BEGIN:STANDARD
TZOFFSETFROM:+1000
TZOFFSETTO:+1000
TZNAME:AEST
DTSTART:20240101T000000
END:STANDARD
END:VTIMEZONE
BEGIN:VEVENT
DTSTART;TZID=Australia/Brisbane:20251017T180000
DTEND;TZID=Australia/Brisbane:20251017T203000
DTSTAMP:20260426T110422
CREATED:20251002T062822Z
LAST-MODIFIED:20251002T062927Z
UID:1803-1760724000-1760733000@csklubqld.org.au
SUMMARY:Pátek - Večeře 17.10.
DESCRIPTION:Polévka – zelná s masem (Cabbage with Meat)\nRisoto s masem\, zeleninou a sýrem (Veal Risotto with Vegetables)\nSmažený sýr\, brambor\, tatarská omáčka (Deep fried cheese\, Potato\, Tartare sauce) \nKuřecí řízek\, bramborový salát – (Chicken Schnitzel\, Potato Salad)\nVepřový řízek\, bramborový salát – (Pork Schnitzel\, Potato Salad) \nObjednejte si včas:\nM: 0497 344 377 \nE: ccq@csklubqld.org.au \n  \nZměna jídelníčku vyhražena bez dalšího oznámení. Vedení klubu děkuje za pochopení 🙏🏻 \nChcete-li vyplnit tento formulář\, prosím povolte v prohlížeči JavaScript.Jméno *Email *Mobil / Telefon *Zpráva *Odeslat  \n 
URL:https://csklubqld.org.au/akce/patek-vecere-17-10/
LOCATION:Czechoslovakian Club in Queensland\, 25 Upfield Street\, Burbank\, QLD\, 4156\, Australia
CATEGORIES:Friday Dinner
ORGANIZER;CN="CCQ":MAILTO:ccqbrisbane@gmail.com
END:VEVENT
END:VCALENDAR